BEGIN:VCALENDAR
VERSION:2.0
PRODID:-//The Institute of Geologists of Ireland - ECPv6.15.20//NONSGML v1.0//EN
CALSCALE:GREGORIAN
METHOD:PUBLISH
X-ORIGINAL-URL:https://igi.ie
X-WR-CALDESC:Events for The Institute of Geologists of Ireland
REFRESH-INTERVAL;VALUE=DURATION:PT1H
X-Robots-Tag:noindex
X-PUBLISHED-TTL:PT1H
BEGIN:VTIMEZONE
TZID:Europe/Dublin
BEGIN:STANDARD
TZOFFSETFROM:+0000
TZOFFSETTO:+0100
TZNAME:IST
DTSTART:20250330T010000
END:STANDARD
BEGIN:DAYLIGHT
TZOFFSETFROM:+0100
TZOFFSETTO:+0000
TZNAME:GMT
DTSTART:20251026T010000
END:DAYLIGHT
BEGIN:STANDARD
TZOFFSETFROM:+0000
TZOFFSETTO:+0100
TZNAME:IST
DTSTART:20260329T010000
END:STANDARD
BEGIN:DAYLIGHT
TZOFFSETFROM:+0100
TZOFFSETTO:+0000
TZNAME:GMT
DTSTART:20261025T010000
END:DAYLIGHT
BEGIN:STANDARD
TZOFFSETFROM:+0000
TZOFFSETTO:+0100
TZNAME:IST
DTSTART:20270328T010000
END:STANDARD
BEGIN:DAYLIGHT
TZOFFSETFROM:+0100
TZOFFSETTO:+0000
TZNAME:GMT
DTSTART:20271031T010000
END:DAYLIGHT
END:VTIMEZONE
BEGIN:VEVENT
DTSTART;TZID=Europe/Dublin:20260323T190000
DTEND;TZID=Europe/Dublin:20260323T190000
DTSTAMP:20260421T150141
CREATED:20260318T112815Z
LAST-MODIFIED:20260318T112815Z
UID:11772-1774292400-1774292400@igi.ie
SUMMARY:Belfast Geologist’s Society Talk
DESCRIPTION:The next Belfast Geologist’s talk will be held in hybrid format on Monday 23rd March 2026 at 7pm. \nIt will be entitled “Does Groundwater matter at all” and will be given by Paul Wilson\, Hydrogeologist with the GSNI. \nIt is open to the public. To attend in-person\, meet at McArthur Hall\, Methodist College\, Malone Road for refreshments from 6.30pm. \nIf attending via Zoom\, please log in from 6.45pm and the talk will start at 7pm. \nMore information is available on the website Does Groundwater Matter at All ? – Belfast Geologist’ Society. \nTo Join via Zoom:\nhttps://us06web.zoom.us/j/84933864378?pwd=Kt8rIlP7bKzKhrNBFqPTizEbdhujSh.1\nMeeting ID: 849 3386 4378\nPasscode: 380021
URL:https://igi.ie/event/belfast-geologists-society-talk-6/
LOCATION:Methodist College Belfast and on Zoom\, 1 Malone Rd\, Belfast\, BT9 6BY\, United Kingdom
CATEGORIES:Event,Lectures
END:VEVENT
END:VCALENDAR