BEGIN:VCALENDAR
VERSION:2.0
PRODID:-//The Institute of Geologists of Ireland - ECPv6.15.20//NONSGML v1.0//EN
CALSCALE:GREGORIAN
METHOD:PUBLISH
X-ORIGINAL-URL:https://igi.ie
X-WR-CALDESC:Events for The Institute of Geologists of Ireland
REFRESH-INTERVAL;VALUE=DURATION:PT1H
X-Robots-Tag:noindex
X-PUBLISHED-TTL:PT1H
BEGIN:VTIMEZONE
TZID:Europe/Dublin
BEGIN:STANDARD
TZOFFSETFROM:+0000
TZOFFSETTO:+0100
TZNAME:IST
DTSTART:20210328T010000
END:STANDARD
BEGIN:DAYLIGHT
TZOFFSETFROM:+0100
TZOFFSETTO:+0000
TZNAME:GMT
DTSTART:20211031T010000
END:DAYLIGHT
BEGIN:STANDARD
TZOFFSETFROM:+0000
TZOFFSETTO:+0100
TZNAME:IST
DTSTART:20220327T010000
END:STANDARD
BEGIN:DAYLIGHT
TZOFFSETFROM:+0100
TZOFFSETTO:+0000
TZNAME:GMT
DTSTART:20221030T010000
END:DAYLIGHT
BEGIN:STANDARD
TZOFFSETFROM:+0000
TZOFFSETTO:+0100
TZNAME:IST
DTSTART:20230326T010000
END:STANDARD
BEGIN:DAYLIGHT
TZOFFSETFROM:+0100
TZOFFSETTO:+0000
TZNAME:GMT
DTSTART:20231029T010000
END:DAYLIGHT
END:VTIMEZONE
BEGIN:VEVENT
DTSTART;TZID=Europe/Dublin:20221202T090000
DTEND;TZID=Europe/Dublin:20221202T160000
DTSTAMP:20260423T145940
CREATED:20221128T124741Z
LAST-MODIFIED:20221128T142557Z
UID:8303-1669971600-1669996800@igi.ie
SUMMARY:Irish Quaternary Association (IQUA) Autumn Symposium 2022
DESCRIPTION:The symposium will be held at Room 125\, TSI Building North Campus\, Maynooth University from 9:00am to 4:00pm. \nThe cost is €10 for IQUA members\, €5 for IQUA Student members\, €20 non-members\, €10 student non-members. \nThe theme is “Research from the past – Impact for the future”\nKeynote Speaker is Professor John Kirby from Liverpool John Moores University. \nSee flyer below and details of how to register here: https://forms.office.com/r/deF8tHgZ1M \nWebsite: http://iqua.ie/category/events/
URL:https://igi.ie/event/irish-quaternary-association-iqua-autumn-symposium-2022/
LOCATION:Maynooth University\, Co Kildare\, Maynooth\, Co. Kildare\, Ireland
CATEGORIES:Event,Seminars
END:VEVENT
BEGIN:VEVENT
DTSTART;TZID=Europe/Dublin:20221206T180000
DTEND;TZID=Europe/Dublin:20221206T193000
DTSTAMP:20260423T145940
CREATED:20221130T141650Z
LAST-MODIFIED:20221130T144315Z
UID:8312-1670349600-1670355000@igi.ie
SUMMARY:IAH Technical Discussion Meeting
DESCRIPTION:IAH Technical Discussion Meeting via Zoom on \nDate: Tuesday 6th December 2022 \nTime: 18:00 to 19:30 (login to the Zoom from 17:45) \nTitle: “GQ Toolbox – A New Geological Survey Ireland Application for Aqueous Geochemistry Analysis” and will be presented by Shane Carey (MapTech Solutions) and Seán Wheeler (Tobin Consulting Engineers). \nThis will be a live demonstration of GSI’s new Web-based Groundwater Chemistry Data Visualisation Application. This is a data-driven application\, and the demonstration will convey how the various groundwater chemistry datasets can be analysed by bedrock geology\, aquifer\, catchment and county. The talk and discussion will run from 18:00 to 19:30 (login to the Zoom from 17:45). Please follow the Zoom link information below to login. \nZoom link: shorturl.at/BHLRT (please join on the day using this link.) \nMeeting ID: 861 9874 2004 \nCode: 507567 \nFor further details lease see flyer here
URL:https://igi.ie/event/iah-technical-discussion-meeting/
LOCATION:ZOOM
CATEGORIES:Event
END:VEVENT
BEGIN:VEVENT
DTSTART;TZID=Europe/Dublin:20221207T120000
DTEND;TZID=Europe/Dublin:20221207T130000
DTSTAMP:20260423T145940
CREATED:20221128T141145Z
LAST-MODIFIED:20221128T141145Z
UID:8308-1670414400-1670418000@igi.ie
SUMMARY:European Federation of Geologists (EFG) Geoheritage Webinar
DESCRIPTION:Title:  “Treasures of the Earth” \nSpeaker: Monica Sousa\, Portuguese Association of Geologists (APG)\, Executive Director and Co-ordinator of the EFG’s Panel of Experts on Geological Heritage. \nMore information and registration details for this free webinar can be found at this link https://t.co/DVPZsAbbjk
URL:https://igi.ie/event/european-federation-of-geologists-efg-geoheritage-webinar/
LOCATION:Webinar
CATEGORIES:Event
END:VEVENT
END:VCALENDAR