BEGIN:VCALENDAR
VERSION:2.0
PRODID:-//The Institute of Geologists of Ireland - ECPv6.15.20//NONSGML v1.0//EN
CALSCALE:GREGORIAN
METHOD:PUBLISH
X-ORIGINAL-URL:https://igi.ie
X-WR-CALDESC:Events for The Institute of Geologists of Ireland
REFRESH-INTERVAL;VALUE=DURATION:PT1H
X-Robots-Tag:noindex
X-PUBLISHED-TTL:PT1H
BEGIN:VTIMEZONE
TZID:Europe/Dublin
BEGIN:STANDARD
TZOFFSETFROM:+0000
TZOFFSETTO:+0100
TZNAME:IST
DTSTART:20220327T010000
END:STANDARD
BEGIN:DAYLIGHT
TZOFFSETFROM:+0100
TZOFFSETTO:+0000
TZNAME:GMT
DTSTART:20221030T010000
END:DAYLIGHT
BEGIN:STANDARD
TZOFFSETFROM:+0000
TZOFFSETTO:+0100
TZNAME:IST
DTSTART:20230326T010000
END:STANDARD
BEGIN:DAYLIGHT
TZOFFSETFROM:+0100
TZOFFSETTO:+0000
TZNAME:GMT
DTSTART:20231029T010000
END:DAYLIGHT
BEGIN:STANDARD
TZOFFSETFROM:+0000
TZOFFSETTO:+0100
TZNAME:IST
DTSTART:20240331T010000
END:STANDARD
BEGIN:DAYLIGHT
TZOFFSETFROM:+0100
TZOFFSETTO:+0000
TZNAME:GMT
DTSTART:20241027T010000
END:DAYLIGHT
END:VTIMEZONE
BEGIN:VEVENT
DTSTART;TZID=Europe/Dublin:20230207T180000
DTEND;TZID=Europe/Dublin:20230207T193000
DTSTAMP:20260423T194708
CREATED:20230202T122650Z
LAST-MODIFIED:20230202T171430Z
UID:8422-1675792800-1675798200@igi.ie
SUMMARY:IAH David Burdon Memorial Lecture
DESCRIPTION:IAH David Burdon Memorial Lecture entitled: \n“The roles of early career hydrogeologists in international groundwater development and meeting the SDGs”. \nThe talk will be given by Dr. Jared van Rooyen who is a postdoctoral researcher in the field of isotope hydrogeology and current Chair of the IAH Early Career Hydrogeologist Network. \nYou must register in advance for this online meeting at: https://tinyurl.com/IAH-Burdon2023. \nFor further details please  download flyer here
URL:https://igi.ie/event/iah-david-burdon-memorial-lecture/
CATEGORIES:Event,Lectures
END:VEVENT
BEGIN:VEVENT
DTSTART;TZID=Europe/Dublin:20230218T090000
DTEND;TZID=Europe/Dublin:20230218T150000
DTSTAMP:20260423T194708
CREATED:20230215T173047Z
LAST-MODIFIED:20230215T180145Z
UID:8464-1676710800-1676732400@igi.ie
SUMMARY:GGA Fieldtrip: “Structural controls on the development of Karst in the Burren”
DESCRIPTION:“Structural controls on the development of Karst in the Burren”  \nled by Prof. John Walsh\, UCD. \n9am in Ballyvaughan and end at Doolin caves for a 3pm tour. \nEmail galwaygeology@gmail.com for registration and tickets for the cave.
URL:https://igi.ie/event/galway-geological-association-fieldtrip/
LOCATION:Ballyvaughan\, Co Clare\, Ballyvaughan\, Ireland
CATEGORIES:Event
END:VEVENT
BEGIN:VEVENT
DTSTART;VALUE=DATE:20230221
DTEND;VALUE=DATE:20230222
DTSTAMP:20260423T194708
CREATED:20230111T191416Z
LAST-MODIFIED:20230111T191416Z
UID:8380-1676937600-1677023999@igi.ie
SUMMARY:iCRAG workshop on “The Future of Irish Peatlands – Science\, Engineering and a Just Transition”
DESCRIPTION:iCRAG workshop on “The Future of Irish Peatlands – Science\, Engineering and a Just Transition” on 21st February 2023 in the Abbeyleix Manor Hotel\, Co. Laois. \nMore information is available at this link iCRAG – Peatlands (icrag-centre.org) and registration is through the Eventbrite link The Future of Ireland’s Peatlands: Science\, Engineering & a Just Transition Tickets\, Tue 21 Feb 2023 at 09:30 | Eventbrite.
URL:https://igi.ie/event/icrag-workshop-on-the-future-of-irish-peatlands-science-engineering-and-a-just-transition/
LOCATION:Abbeyleix Manor Hotel\, Abbeyleix\, Co. Laois\, Ireland
CATEGORIES:Event
END:VEVENT
BEGIN:VEVENT
DTSTART;TZID=Europe/Dublin:20230221T193000
DTEND;TZID=Europe/Dublin:20230221T193000
DTSTAMP:20260423T194708
CREATED:20230215T173749Z
LAST-MODIFIED:20230215T180107Z
UID:8469-1677007800-1677007800@igi.ie
SUMMARY:BGA Lecture: “Hydration and Carbonation of the Oceanic Crust: insights from ophiolites and from scientific drilling”
DESCRIPTION:“Hydration and Carbonation of the Oceanic Crust: insights from ophiolites and from scientific drilling” \nThe speaker is Dr. Elliot Carter from Trinity College Dublin. \nHybrid event in Queens University Belfast and via Zoom. \nContact belfastgeologists@live.co.uk for Zoom and registration details. Members and non-members welcome.
URL:https://igi.ie/event/belfast-geological-association-lecture/
LOCATION:Queens University Belfast\, University Rd\, Belfast BT7 1NN\,\, Belfast\, BT7 1NN\, United Kingdom
CATEGORIES:Event,Lectures
END:VEVENT
BEGIN:VEVENT
DTSTART;TZID=Europe/Dublin:20230222T120000
DTEND;TZID=Europe/Dublin:20230222T140000
DTSTAMP:20260423T194709
CREATED:20230202T120859Z
LAST-MODIFIED:20230202T171028Z
UID:8412-1677067200-1677074400@igi.ie
SUMMARY:Webinar for Mentees: “Do I need a Geoscience Mentor?”
DESCRIPTION:Webinar for Mentees: “Do I need a Geoscience Mentor?” \nwill be given by John Arthurs \nWednesday 22nd February 2023 between 12:00 and 14:00. \nPlease register by emailing the IGI office on info@igi.ie and we will forward you the webinar link in advance.
URL:https://igi.ie/event/webinar-for-mentees-do-i-need-a-geoscience-mentor/
LOCATION:Webinar
CATEGORIES:Event
END:VEVENT
BEGIN:VEVENT
DTSTART;TZID=Europe/Dublin:20230222T193000
DTEND;TZID=Europe/Dublin:20230222T193000
DTSTAMP:20260423T194709
CREATED:20230215T174332Z
LAST-MODIFIED:20230217T120518Z
UID:8473-1677094200-1677094200@igi.ie
SUMMARY:Cork Geological Association lecture: “The Variscan: The BIG picture”
DESCRIPTION:Cork Geological Association lecture:  “The Variscan: The BIG picture”  \nWednesday 22nd February 2023 at 7:30pm\, \nto be given by Prof. John Walsh (of ‘The Island’ fame\, and School of Geosciences\, UCD) \n(in-person in the Ted Nevill Lab and live-streamed). \nFor online link please email b.higgs@ucc.ie
URL:https://igi.ie/event/cork-geological-association-lecture-the-variscan-the-big-picture/
LOCATION:Ted Nevill Lab\, Enterprise Centre\, North Mall campus\, UCC and Online\, Ted Nevill Lab\, Enterprise Centre\, North Mall campus\, UCC\, Cork\, Ireland
CATEGORIES:Event,Lectures
END:VEVENT
BEGIN:VEVENT
DTSTART;TZID=Europe/Dublin:20230223T120000
DTEND;TZID=Europe/Dublin:20230223T140000
DTSTAMP:20260423T194709
CREATED:20230202T121757Z
LAST-MODIFIED:20230202T121757Z
UID:8418-1677153600-1677160800@igi.ie
SUMMARY:Talk on Environmental Case Law
DESCRIPTION:IGI is delighted to welcome Brendan Slattery for an online webinar talk on 23rd February 2023 at 12:00 – 14:00. \nThe talk is available for IGI members only and is free to attend. \nIt will focus on recent Environmental Case Law building on Brendan’s talk given during our EIAR course in 2021. \nPlease download flyer here for more information on the talk and how to register. \nDetails on how to access the webinar will be sent out closer to the date.
URL:https://igi.ie/event/talk-on-environmental-case-law/
LOCATION:Webinar
CATEGORIES:Event
END:VEVENT
BEGIN:VEVENT
DTSTART;TZID=Europe/Dublin:20230227T093000
DTEND;TZID=Europe/Dublin:20230227T150000
DTSTAMP:20260423T194709
CREATED:20230222T152801Z
LAST-MODIFIED:20230222T154544Z
UID:8495-1677490200-1677510000@igi.ie
SUMMARY:Responsible Critical Minerals Resourcing in Northern Ireland: stakeholder event
DESCRIPTION:Responsible Critical Minerals Resourcing in Northern Ireland:- stakeholder event \nRiddel Hall\, Queen’s University Belfast \n9.30-3.00pm on Monday 27th February 2023. \nRegister online https://lnkd.in/ey-UFJE3. \nAny questions\, email qmsresearch.support@qub.ac.uk
URL:https://igi.ie/event/responsible-critical-minerals-resourcing-in-northern-ireland-stakeholder-event/
LOCATION:Riddel Hall\, Queen’s University Belfast\, University Rd\,\, Belfast\, BT7 1NN\, United Kingdom
CATEGORIES:Event
END:VEVENT
BEGIN:VEVENT
DTSTART;TZID=Europe/Dublin:20230228T070000
DTEND;TZID=Europe/Dublin:20230228T200000
DTSTAMP:20260423T194709
CREATED:20230215T175138Z
LAST-MODIFIED:20230215T180301Z
UID:8476-1677567600-1677614400@igi.ie
SUMMARY:IGA lecture: “Nineteenth Century Fossil Collections from the Foothills of the Himalaya (Siwalik Hills)”
DESCRIPTION:“Nineteenth Century Fossil Collections from the Foothills of the Himalaya (Siwalik Hills)” \nby Dr Chris Stimpson (Oxford University Museum of Natural History). \nTuesday 28th February 2023 between 19:00 and 20:00 via Zoom. \nMore information on the talk and how to register is given in the flyer here or send an email to info@geology.ie to register.
URL:https://igi.ie/event/irish-geological-association-lecture/
LOCATION:ZOOM
CATEGORIES:Event,Lectures
END:VEVENT
END:VCALENDAR