BEGIN:VCALENDAR
VERSION:2.0
PRODID:-//The Institute of Geologists of Ireland - ECPv6.15.20//NONSGML v1.0//EN
CALSCALE:GREGORIAN
METHOD:PUBLISH
X-WR-CALNAME:The Institute of Geologists of Ireland
X-ORIGINAL-URL:https://igi.ie
X-WR-CALDESC:Events for The Institute of Geologists of Ireland
REFRESH-INTERVAL;VALUE=DURATION:PT1H
X-Robots-Tag:noindex
X-PUBLISHED-TTL:PT1H
BEGIN:VTIMEZONE
TZID:Europe/Dublin
BEGIN:STANDARD
TZOFFSETFROM:+0000
TZOFFSETTO:+0100
TZNAME:IST
DTSTART:20240331T010000
END:STANDARD
BEGIN:DAYLIGHT
TZOFFSETFROM:+0100
TZOFFSETTO:+0000
TZNAME:GMT
DTSTART:20241027T010000
END:DAYLIGHT
BEGIN:STANDARD
TZOFFSETFROM:+0000
TZOFFSETTO:+0100
TZNAME:IST
DTSTART:20250330T010000
END:STANDARD
BEGIN:DAYLIGHT
TZOFFSETFROM:+0100
TZOFFSETTO:+0000
TZNAME:GMT
DTSTART:20251026T010000
END:DAYLIGHT
BEGIN:STANDARD
TZOFFSETFROM:+0000
TZOFFSETTO:+0100
TZNAME:IST
DTSTART:20260329T010000
END:STANDARD
BEGIN:DAYLIGHT
TZOFFSETFROM:+0100
TZOFFSETTO:+0000
TZNAME:GMT
DTSTART:20261025T010000
END:DAYLIGHT
END:VTIMEZONE
BEGIN:VEVENT
DTSTART;TZID=Europe/Dublin:20250513T140000
DTEND;TZID=Europe/Dublin:20250513T140000
DTSTAMP:20260420T001632
CREATED:20250402T162043Z
LAST-MODIFIED:20250402T162043Z
UID:10906-1747144800-1747144800@igi.ie
SUMMARY:Joint Geotechnical Society of Ireland / IGI Seminar
DESCRIPTION:The Geotechnical Society\, co-hosting with the IGI\, will hold their Spring Seminar and AGM on Tuesday 13th May which will include talks from Dr John C. Cripps\, University of Sheffield and Dr Róisín Buckley\, Glasgow University (see draft poster here). \nDr Cripps will give the 23rd Glossop Lecture\, entitled “Mud to Rock and Back” while Dr Buckley’s lecture is entitled “Uncertainty in Site Characterisation: new strategies to mitigate risks and maximise opportunities”. The seminar will be followed by the Geotechnical Society of Ireland’s AGM.
URL:https://igi.ie/event/joint-geotechnical-society-of-ireland-igi-seminar/
LOCATION:Engineers Ireland\, Ballsbridge\, Dublin\, Clyde Road\, Ballsbridge\, Dublin\, Ireland
CATEGORIES:Event,Seminars
END:VEVENT
BEGIN:VEVENT
DTSTART;VALUE=DATE:20250515
DTEND;VALUE=DATE:20250517
DTSTAMP:20260420T001632
CREATED:20250226T112436Z
LAST-MODIFIED:20250312T120043Z
UID:10779-1747267200-1747439999@igi.ie
SUMMARY:Irish Association for Economic Geology (IAEG) Conference
DESCRIPTION:The Annual IAEG Conference will be held on the 15th and 16th May in the Hillgrove Hotel\, Monaghan. The theme of this year’s conference will be “Copper: The Green Metal”. \nCall for Papers: If you have a paper or know someone who could contribute to the Conference\, please get in touch via secretary@iaeg.ie. IAEG would like to invite students to apply to either present a flash talk or submit a poster at the Conference. There will also be a student-industry networking event. Students who present posters at the Conference will have free entry. Those who present flash talks will have discounted entry rates. To apply\, submit poster or flash talk abstracts to secretary@iaeg.ie. \nRegistration is now open for this conference: https://iaeg.ie/event-6091604 \n  \n 
URL:https://igi.ie/event/save-the-date-irish-association-for-economic-geology-iaeg-conference/
LOCATION:Hillgrove Hotel\, Co Monaghan\, Old Armagh Road\, Co. Monaghan\, H18 RK15\, Ireland
CATEGORIES:Conferences,Event
END:VEVENT
BEGIN:VEVENT
DTSTART;TZID=Europe/Dublin:20250519T180000
DTEND;TZID=Europe/Dublin:20250519T180000
DTSTAMP:20260420T001632
CREATED:20250514T131253Z
LAST-MODIFIED:20250514T131543Z
UID:10966-1747677600-1747677600@igi.ie
SUMMARY:Belfast Geologists Society - final talk of the 2024/2025 lecture series
DESCRIPTION:Belfast Geologists Society – their final talk of the 2024/2025 lecture series will be held next Monday\, 19th May 2025 as a hybrid event\, both in-person (at QUB Geography Dept\, Elmwood Avenue\, Belfast) and on Zoom. \nThe lecture is the 2025 Harold Wilson Memorial Lecture and is entitled “The mining heritage of County Antrim and its legacy”. \nIt will be given by Kieran Parker\, British Geological Survey (GSNI). Senior Geohazards Geologist.\nThe talk will be preceded by an opportunity to visit the 3D Mapping facility also in the Geography Department with Connor Graham\, Centre for GIS and Geomatics\, QUB \nTimes:\n6.00 – 6.30pm visit the 3D Mapping Facility with Connor Graham – meet entrance hall\, Geography Dept\n6.30 – 7.00pm tea/coffee Geography Dept lecture theatre\n7.00pm The mining heritage of County Antrim and its legacy\, Kieran Parker\, Geography Dept lecture theatre \nZoom link – please join by 6.45pm\nTopic: ‘The mining heritage of County Antrim and its legacy’ Kieran Parker GSNI\nTime: May 19\, 2025 07:00 PM Greenwich Mean Time\nJoin Zoom Meeting\nhttps://us06web.zoom.us/j/87489346264?pwd=Z2NkhJuA541uEScXe09eqLgh4Dp73d.1\nMeeting ID: 874 8934 6264\nPasscode: 945894\nFurther detail at https://belfastgeologists.org/index.php/2025/04/30/the-mining-heritage-of-county-antrim-and-its-legacy/
URL:https://igi.ie/event/belfast-geologists-society-final-talk-of-the-2024-2025-lecture-series/
LOCATION:Queen’s University\, Belfast and on Zoom\, Elmwood Avenue\, Belfast\, United Kingdom
CATEGORIES:Event
END:VEVENT
BEGIN:VEVENT
DTSTART;TZID=Europe/Dublin:20250520T180000
DTEND;TZID=Europe/Dublin:20250520T180000
DTSTAMP:20260420T001632
CREATED:20250514T132143Z
LAST-MODIFIED:20250514T132143Z
UID:10971-1747764000-1747764000@igi.ie
SUMMARY:Society of Petroleum Engineers (SPE) Distinguished Lecture
DESCRIPTION:Society of Petroleum Engineers (SPE) Distinguished Lecture – Tuesday 20th May 2025 at 6pm in the Haughton Lecture Theatre in the Museum Building\, Trinity College Dublin. \nThe talk is titled: “CO2 Storage Resource Management System – Application and Learnings from World’s First Booking” and will be delivered by Dr Paul Lyford. Paul is the Reserves and Resources Manager at Santos Ltd\, an Australian oil and gas company and the first to add CO2 Storage resources to the annual reserves report. \nPaul has over 30 years’ experience and has been involved in many field developments across Australia. He has a background in reservoir engineering\, operations\, planning\, strategy and commercial\, and holds a PhD in Engineering from University of Melbourne. His full bio\, and more details of the talk are included in the Flyer here. \nThere will be a chance to socialise afterwards with drinks in The Duke pub\, Duke Street.
URL:https://igi.ie/event/society-of-petroleum-engineers-spe-distinguished-lecture-2/
LOCATION:Haughton Theatre\, Museum Building\, Trinity College Dublin\, Trinity College\,\, Dublin\, Ireland
CATEGORIES:Event
END:VEVENT
BEGIN:VEVENT
DTSTART;TZID=Europe/Dublin:20250529T160000
DTEND;TZID=Europe/Dublin:20250529T170000
DTSTAMP:20260420T001632
CREATED:20250514T132604Z
LAST-MODIFIED:20250514T132604Z
UID:10975-1748534400-1748538000@igi.ie
SUMMARY:GSNI Northern Ireland Geothermal Webinar Series
DESCRIPTION:The fifth webinar in the 2025 Northern Ireland Geothermal Webinar Series takes place Thursday 29th May between 16:00 and 17:00. \nDr. Alison Monaghan\, from the British Geological Survey will provide an overview of trends in geothermal projects in Great Britain and highlight various projects that BGS are leading on\, including the UK Geothermal Platform and a Ground Source Heat Pump screening tool for NHS England. \nRegister via the Eventbrite link: Making Geothermal More Visible in Great Britain Tickets\, Thu\, May 29\, 2025 at 4:00 PM | Eventbrite
URL:https://igi.ie/event/gsni-northern-ireland-geothermal-webinar-series-11/
LOCATION:Webinar
CATEGORIES:Event
END:VEVENT
BEGIN:VEVENT
DTSTART;VALUE=DATE:20250530
DTEND;VALUE=DATE:20250531
DTSTAMP:20260420T001632
CREATED:20250528T093456Z
LAST-MODIFIED:20250528T093456Z
UID:11002-1748563200-1748649599@igi.ie
SUMMARY:Irish Mining & Quarrying Society (IMQS) Annual Field Trip
DESCRIPTION:On Friday\, 30th May – Valentia Slate Quarry\, Co. Kerry. \nDetails on IMQS website Field Trip 2025 – IMQS
URL:https://igi.ie/event/irish-mining-quarrying-society-imqs-annual-field-trip/
LOCATION:Valentia\, Co Kerry\, Valentia Island\, Kerry\, Ireland
CATEGORIES:Event
END:VEVENT
END:VCALENDAR