BEGIN:VCALENDAR
VERSION:2.0
PRODID:-//The Institute of Geologists of Ireland - ECPv6.15.20//NONSGML v1.0//EN
CALSCALE:GREGORIAN
METHOD:PUBLISH
X-ORIGINAL-URL:https://igi.ie
X-WR-CALDESC:Events for The Institute of Geologists of Ireland
REFRESH-INTERVAL;VALUE=DURATION:PT1H
X-Robots-Tag:noindex
X-PUBLISHED-TTL:PT1H
BEGIN:VTIMEZONE
TZID:Europe/Dublin
BEGIN:STANDARD
TZOFFSETFROM:+0000
TZOFFSETTO:+0100
TZNAME:IST
DTSTART:20240331T010000
END:STANDARD
BEGIN:DAYLIGHT
TZOFFSETFROM:+0100
TZOFFSETTO:+0000
TZNAME:GMT
DTSTART:20241027T010000
END:DAYLIGHT
BEGIN:STANDARD
TZOFFSETFROM:+0000
TZOFFSETTO:+0100
TZNAME:IST
DTSTART:20250330T010000
END:STANDARD
BEGIN:DAYLIGHT
TZOFFSETFROM:+0100
TZOFFSETTO:+0000
TZNAME:GMT
DTSTART:20251026T010000
END:DAYLIGHT
BEGIN:STANDARD
TZOFFSETFROM:+0000
TZOFFSETTO:+0100
TZNAME:IST
DTSTART:20260329T010000
END:STANDARD
BEGIN:DAYLIGHT
TZOFFSETFROM:+0100
TZOFFSETTO:+0000
TZNAME:GMT
DTSTART:20261025T010000
END:DAYLIGHT
END:VTIMEZONE
BEGIN:VEVENT
DTSTART;TZID=Europe/Dublin:20250705T133000
DTEND;TZID=Europe/Dublin:20250705T133000
DTSTAMP:20260419T183250
CREATED:20250618T122423Z
LAST-MODIFIED:20250618T122457Z
UID:11037-1751722200-1751722200@igi.ie
SUMMARY:Belfast Geologists Society –Waterloo foreshore\, Larne\, Co. Antrim
DESCRIPTION:Leader: Ralph Semple \nSaturday 5th July 13.30 \nMeeting: Larne Leisure Centre \nLocation: Google maps 54.85495911612962\, -5.801326974861821 (V53X+XG) \nFurther information at https://belfastgeologists.org/index.php/2024/02/15/waterloo-foreshorelarneco-antrim/ \nPlease keep an eye on their events page on their website and on their Facebook page for any last minute changes.\nhttps://belfastgeologists.org/\nhttps://www.facebook.com/p/Belfast-Geologists-Society-100071853709689/
URL:https://igi.ie/event/belfast-geologists-society-waterloo-foreshore-larne-co-antrim/
LOCATION:Larne Leisure Centre\, Larne\, V53X+XG\, United Kingdom
CATEGORIES:Event
END:VEVENT
BEGIN:VEVENT
DTSTART;TZID=Europe/Dublin:20250719T100000
DTEND;TZID=Europe/Dublin:20250719T100000
DTSTAMP:20260419T183250
CREATED:20250618T123315Z
LAST-MODIFIED:20250618T123804Z
UID:11041-1752919200-1752919200@igi.ie
SUMMARY:Belfast Geologists Society – Ballycastle Fieldtrip
DESCRIPTION:Leader : Karen Parks \nSaturday 19th July 10.00 \nMeeting : https://maps.app.goo.gl/1uWzSU5xNoDLbvAV6\nAnn Street Car Park \nA visit to Ballycastle museum followed by a visit to Ballycastle coastal sections at Pan’s Rock and Colliery Bay. \nPlease keep an eye on their events page on their website and on their Facebook page for any last minute changes.\nhttps://belfastgeologists.org/\nhttps://www.facebook.com/p/Belfast-Geologists-Society-100071853709689/
URL:https://igi.ie/event/belfast-geologists-society-ballycastle-fieldtrip/
LOCATION:Ballycastle\, Co Antrim\, Ann Street Car Park\, Ballycastle\, United Kingdom
CATEGORIES:Event
END:VEVENT
BEGIN:VEVENT
DTSTART;TZID=Europe/Dublin:20250726T100000
DTEND;TZID=Europe/Dublin:20250726T100000
DTSTAMP:20260419T183250
CREATED:20250709T114048Z
LAST-MODIFIED:20250709T114049Z
UID:11070-1753524000-1753524000@igi.ie
SUMMARY:Irish Geological Association (IGA) Annual Visit to RHA Art Exhibition
DESCRIPTION:The 3rd Annual IGA visit to the Royal Hibernian Academy (RHA) Annual Art Exhibition will be led by Dr Bill Sheppard on the (deferred date of) 26th July 2025 at 10am. \nPart 1: Early Dublin – Landscape and Building Stone. The event participants will walk from St. Audeon’s Church\, down Dame St and through Trinity College to gain insights into changes in landscape and building stone use within the early city area from Viking times. Historical maps and illustrations will be presented. The historical value of the works of landscape artists in the 18th and 19th centuries will be highlighted. \nFollowing Part 1\, Lunch can be bring-your-own or in the National Gallery. \nPart 2 : RHA Annual Exhibition: The RHA Annual Exhibition offers much to the geological enquiring mind. Many of Ireland’s leading Irish artists again exhibit works on which to base geological discussion on these works and on geology in art generally. Bill has selected some 20 works of particular interest. This is a great opportunity to engage with the works of leading Irish artists and seek out geological aspects within the works on show. \nA number of 18th century Dublin landscapes can also be viewed in the National Gallery. \nMEETING TIME: Saturday\, 26th July 2025 at 10.00am. \nMEETING POINT: Entrance to St. Audeon’s Medieval Church\, High Street\, The Liberties. https://maps.app.goo.gl/hGV3EF9FBdKJc2kJ6 \nCONTACT: Bill Mobile 087 212 6677 \nREGISTRATION: Please click HERE to register and give contact details. Members and non-members welcome.
URL:https://igi.ie/event/irish-geological-association-iga-annual-visit-to-rha-art-exhibition/
LOCATION:St. Audeon’s Medieval Church\, High Street\, The Liberties\, High Street\, The Liberties\, Dublin\, D08 W99H\, Ireland
CATEGORIES:Event
END:VEVENT
END:VCALENDAR