BEGIN:VCALENDAR
VERSION:2.0
PRODID:-//The Institute of Geologists of Ireland - ECPv6.15.20//NONSGML v1.0//EN
CALSCALE:GREGORIAN
METHOD:PUBLISH
X-WR-CALNAME:The Institute of Geologists of Ireland
X-ORIGINAL-URL:https://igi.ie
X-WR-CALDESC:Events for The Institute of Geologists of Ireland
REFRESH-INTERVAL;VALUE=DURATION:PT1H
X-Robots-Tag:noindex
X-PUBLISHED-TTL:PT1H
BEGIN:VTIMEZONE
TZID:Europe/Dublin
BEGIN:STANDARD
TZOFFSETFROM:+0000
TZOFFSETTO:+0100
TZNAME:IST
DTSTART:20210328T010000
END:STANDARD
BEGIN:DAYLIGHT
TZOFFSETFROM:+0100
TZOFFSETTO:+0000
TZNAME:GMT
DTSTART:20211031T010000
END:DAYLIGHT
BEGIN:STANDARD
TZOFFSETFROM:+0000
TZOFFSETTO:+0100
TZNAME:IST
DTSTART:20220327T010000
END:STANDARD
BEGIN:DAYLIGHT
TZOFFSETFROM:+0100
TZOFFSETTO:+0000
TZNAME:GMT
DTSTART:20221030T010000
END:DAYLIGHT
BEGIN:STANDARD
TZOFFSETFROM:+0000
TZOFFSETTO:+0100
TZNAME:IST
DTSTART:20230326T010000
END:STANDARD
BEGIN:DAYLIGHT
TZOFFSETFROM:+0100
TZOFFSETTO:+0000
TZNAME:GMT
DTSTART:20231029T010000
END:DAYLIGHT
END:VTIMEZONE
BEGIN:VEVENT
DTSTART;TZID=Europe/Dublin:20221130T190000
DTEND;TZID=Europe/Dublin:20221130T190000
DTSTAMP:20260423T144305
CREATED:20221123T134344Z
LAST-MODIFIED:20221123T142946Z
UID:8281-1669834800-1669834800@igi.ie
SUMMARY:Irish Association for Economic Geology (IAEG) AGM
DESCRIPTION:Irish Association for Economic Geology (IAEG) 2022 AGM \nWednesday November 30th \nCarlton Hotel Blanchardstown at 7pm. \nTo register for the meeting\, please ensure you are logged in (this is a member’s only event) and navigate to the events page on the website or click here . \nPlease note that it is an in-person event only.
URL:https://igi.ie/event/irish-association-for-economic-geology-iaeg-2022-agm/
LOCATION:Carlton Hotel\, Blanchardstown\, Dublin\, Church Road\, Tyrrelstown\, Dublin 15\, D15EYX5\, Ireland
CATEGORIES:Event
END:VEVENT
BEGIN:VEVENT
DTSTART;TZID=Europe/Dublin:20221130T193000
DTEND;TZID=Europe/Dublin:20221130T193000
DTSTAMP:20260423T144305
CREATED:20221128T121403Z
LAST-MODIFIED:20221128T121403Z
UID:8298-1669836600-1669836600@igi.ie
SUMMARY:CGA Ted Nevill Lecture: “Intraplate magmatism: plumes\, volatiles and more”
DESCRIPTION:Cork Geological Association’s lecture: “Intraplate magmatism: plumes\, volatiles and more” \nSpeaker: Professor Linda Kirstein\, Professor of Earth Dynamics at the University of Edinburgh \nTime: Wednesday 30th November at 7.30pm  \nVeneu: Ted Nevill Lab\, Cork Enterprise Centre\, North Mall Campus\, UCC. \nThe event is co-hosted by CGA and The School of Biological\, Earth and Environmental Sciences\, UCC. The speaker is  and will give the Ted Nevill Lecture\, entitled  Professor Kirstein is graduate of UCC and studied during Ted Nevill’s time. \nAlso virtually via MS Teams using the following link: \nhttps://teams.microsoft.com/l/meetup-join/19%3ameeting_MTcwMGYzZDMtODcyZC00NGVmLTg4YmMtNmRkMGI0NTVmYzE1%40thread.v2/0?context=%7b%22Tid%22%3a%2246fe5ca5-866f-4e42-92e9-ed8786245545%22%2c%22Oid%22%3a%22149ddfb4-aca5-49a4-869e-9b03f6e0faa3%22%7d
URL:https://igi.ie/event/cga-ted-nevill-lecture-intraplate-magmatism-plumes-volatiles-and-more/
LOCATION:Ted Nevill Lab\, Enterprise Centre\, North Mall campus\, UCC and Online\, Ted Nevill Lab\, Enterprise Centre\, North Mall campus\, UCC\, Cork\, Ireland
CATEGORIES:Event,Lectures
END:VEVENT
END:VCALENDAR