BEGIN:VCALENDAR
VERSION:2.0
PRODID:-//The Institute of Geologists of Ireland - ECPv6.15.20//NONSGML v1.0//EN
CALSCALE:GREGORIAN
METHOD:PUBLISH
X-WR-CALNAME:The Institute of Geologists of Ireland
X-ORIGINAL-URL:https://igi.ie
X-WR-CALDESC:Events for The Institute of Geologists of Ireland
REFRESH-INTERVAL;VALUE=DURATION:PT1H
X-Robots-Tag:noindex
X-PUBLISHED-TTL:PT1H
BEGIN:VTIMEZONE
TZID:Europe/Dublin
BEGIN:STANDARD
TZOFFSETFROM:+0000
TZOFFSETTO:+0100
TZNAME:IST
DTSTART:20220327T010000
END:STANDARD
BEGIN:DAYLIGHT
TZOFFSETFROM:+0100
TZOFFSETTO:+0000
TZNAME:GMT
DTSTART:20221030T010000
END:DAYLIGHT
BEGIN:STANDARD
TZOFFSETFROM:+0000
TZOFFSETTO:+0100
TZNAME:IST
DTSTART:20230326T010000
END:STANDARD
BEGIN:DAYLIGHT
TZOFFSETFROM:+0100
TZOFFSETTO:+0000
TZNAME:GMT
DTSTART:20231029T010000
END:DAYLIGHT
BEGIN:STANDARD
TZOFFSETFROM:+0000
TZOFFSETTO:+0100
TZNAME:IST
DTSTART:20240331T010000
END:STANDARD
BEGIN:DAYLIGHT
TZOFFSETFROM:+0100
TZOFFSETTO:+0000
TZNAME:GMT
DTSTART:20241027T010000
END:DAYLIGHT
END:VTIMEZONE
BEGIN:VEVENT
DTSTART;TZID=Europe/Dublin:20230130T193000
DTEND;TZID=Europe/Dublin:20230130T193000
DTSTAMP:20260423T194559
CREATED:20230125T133318Z
LAST-MODIFIED:20230125T133318Z
UID:8403-1675107000-1675107000@igi.ie
SUMMARY:BGS Lecture: “Irish Zn-Pb Deposits: Recent Advancements in understanding ore-forming processes in the Southern Irish Orefield”
DESCRIPTION:Belfast Geologists Society will be holding a virtual lecture via Zoom \non Monday 30th January 2023 at 7:30pm. \nThe lecture will be given by Dr. Aileen Doran (iCRAG/UCD) and is entitled: \n “Irish Zn-Pb Deposits: Recent Advancements in understanding ore-forming processes in the Southern Irish Orefield”.  \nMore details at:  http://www.belfastgeologists.org.uk/winterpage.htm.
URL:https://igi.ie/event/bgs-lecture-irish-zn-pb-deposits-recent-advancements-in-understanding-ore-forming-processes-in-the-southern-irish-orefield/
LOCATION:ZOOM
CATEGORIES:Event,Lectures
END:VEVENT
END:VCALENDAR