BEGIN:VCALENDAR
VERSION:2.0
PRODID:-//The Institute of Geologists of Ireland - ECPv6.15.20//NONSGML v1.0//EN
CALSCALE:GREGORIAN
METHOD:PUBLISH
X-WR-CALNAME:The Institute of Geologists of Ireland
X-ORIGINAL-URL:https://igi.ie
X-WR-CALDESC:Events for The Institute of Geologists of Ireland
REFRESH-INTERVAL;VALUE=DURATION:PT1H
X-Robots-Tag:noindex
X-PUBLISHED-TTL:PT1H
BEGIN:VTIMEZONE
TZID:Europe/Dublin
BEGIN:STANDARD
TZOFFSETFROM:+0000
TZOFFSETTO:+0100
TZNAME:IST
DTSTART:20220327T010000
END:STANDARD
BEGIN:DAYLIGHT
TZOFFSETFROM:+0100
TZOFFSETTO:+0000
TZNAME:GMT
DTSTART:20221030T010000
END:DAYLIGHT
BEGIN:STANDARD
TZOFFSETFROM:+0000
TZOFFSETTO:+0100
TZNAME:IST
DTSTART:20230326T010000
END:STANDARD
BEGIN:DAYLIGHT
TZOFFSETFROM:+0100
TZOFFSETTO:+0000
TZNAME:GMT
DTSTART:20231029T010000
END:DAYLIGHT
BEGIN:STANDARD
TZOFFSETFROM:+0000
TZOFFSETTO:+0100
TZNAME:IST
DTSTART:20240331T010000
END:STANDARD
BEGIN:DAYLIGHT
TZOFFSETFROM:+0100
TZOFFSETTO:+0000
TZNAME:GMT
DTSTART:20241027T010000
END:DAYLIGHT
END:VTIMEZONE
BEGIN:VEVENT
DTSTART;TZID=Europe/Dublin:20230207T180000
DTEND;TZID=Europe/Dublin:20230207T193000
DTSTAMP:20260423T220246
CREATED:20230202T122650Z
LAST-MODIFIED:20230202T171430Z
UID:8422-1675792800-1675798200@igi.ie
SUMMARY:IAH David Burdon Memorial Lecture
DESCRIPTION:IAH David Burdon Memorial Lecture entitled: \n“The roles of early career hydrogeologists in international groundwater development and meeting the SDGs”. \nThe talk will be given by Dr. Jared van Rooyen who is a postdoctoral researcher in the field of isotope hydrogeology and current Chair of the IAH Early Career Hydrogeologist Network. \nYou must register in advance for this online meeting at: https://tinyurl.com/IAH-Burdon2023. \nFor further details please  download flyer here
URL:https://igi.ie/event/iah-david-burdon-memorial-lecture/
CATEGORIES:Event,Lectures
END:VEVENT
END:VCALENDAR