BEGIN:VCALENDAR
VERSION:2.0
PRODID:-//The Institute of Geologists of Ireland - ECPv6.15.20//NONSGML v1.0//EN
CALSCALE:GREGORIAN
METHOD:PUBLISH
X-ORIGINAL-URL:https://igi.ie
X-WR-CALDESC:Events for The Institute of Geologists of Ireland
REFRESH-INTERVAL;VALUE=DURATION:PT1H
X-Robots-Tag:noindex
X-PUBLISHED-TTL:PT1H
BEGIN:VTIMEZONE
TZID:Europe/Dublin
BEGIN:STANDARD
TZOFFSETFROM:+0000
TZOFFSETTO:+0100
TZNAME:IST
DTSTART:20220327T010000
END:STANDARD
BEGIN:DAYLIGHT
TZOFFSETFROM:+0100
TZOFFSETTO:+0000
TZNAME:GMT
DTSTART:20221030T010000
END:DAYLIGHT
BEGIN:STANDARD
TZOFFSETFROM:+0000
TZOFFSETTO:+0100
TZNAME:IST
DTSTART:20230326T010000
END:STANDARD
BEGIN:DAYLIGHT
TZOFFSETFROM:+0100
TZOFFSETTO:+0000
TZNAME:GMT
DTSTART:20231029T010000
END:DAYLIGHT
BEGIN:STANDARD
TZOFFSETFROM:+0000
TZOFFSETTO:+0100
TZNAME:IST
DTSTART:20240331T010000
END:STANDARD
BEGIN:DAYLIGHT
TZOFFSETFROM:+0100
TZOFFSETTO:+0000
TZNAME:GMT
DTSTART:20241027T010000
END:DAYLIGHT
END:VTIMEZONE
BEGIN:VEVENT
DTSTART;VALUE=DATE:20230303
DTEND;VALUE=DATE:20230305
DTSTAMP:20260423T205442
CREATED:20230301T160014Z
LAST-MODIFIED:20230301T163659Z
UID:8514-1677801600-1677974399@igi.ie
SUMMARY:Weekend talk and fieldtrip: Discover Iveragh’s Geology
DESCRIPTION:Discover Iveragh’s Geology – Weekend talk and fieldtrip 3rd and 4th March 2023 \nWaterville and Valentia Island\, Co. Kerry. with Dr. Pat Meere\, UCC. \nFriday 3rd March 7pm-9pm at Tech Amergin\, Waterville and \nSaturday 4th March 10am-1pm Valentia Island. \nEventbrite link: Discover Iveragh’s Geology Tickets\, Fri 3 Mar 2023 at 19:00 | Eventbrite
URL:https://igi.ie/event/weekend-talk-and-fieldtrip-discover-iveraghs-geology/
LOCATION:Waterville and Valentia Island\, Co Kerry\, Waterville\, V23 A243\, Ireland
CATEGORIES:Event
END:VEVENT
BEGIN:VEVENT
DTSTART;TZID=Europe/Dublin:20230303T170000
DTEND;TZID=Europe/Dublin:20230305T170000
DTSTAMP:20260423T205442
CREATED:20221220T162543Z
LAST-MODIFIED:20221220T162543Z
UID:8366-1677862800-1678035600@igi.ie
SUMMARY:The 66th Irish Geological Research Meeting 2023
DESCRIPTION:Presentations on all Earth Science matters\, from geomorphology through to hard rock geology are welcome. \nStudents\, early career researchers are encouraged to consider. \nSee the Eventbrite page for details and registration: https://www.eventbrite.co.uk/e/66th-irish-geological-research-meeting-2023-tickets-472473409687 \nRegistration is free
URL:https://igi.ie/event/the-66th-irish-geological-research-meeting-2023/
LOCATION:Ulster Museum\, Belfast\, Ulster Museum\, Botanic Gardens\,\, Belfast\, BT9 5AB\, United Kingdom
CATEGORIES:Event
END:VEVENT
END:VCALENDAR