BEGIN:VCALENDAR
VERSION:2.0
PRODID:-//The Institute of Geologists of Ireland - ECPv6.15.20//NONSGML v1.0//EN
CALSCALE:GREGORIAN
METHOD:PUBLISH
X-ORIGINAL-URL:https://igi.ie
X-WR-CALDESC:Events for The Institute of Geologists of Ireland
REFRESH-INTERVAL;VALUE=DURATION:PT1H
X-Robots-Tag:noindex
X-PUBLISHED-TTL:PT1H
BEGIN:VTIMEZONE
TZID:Europe/Dublin
BEGIN:STANDARD
TZOFFSETFROM:+0000
TZOFFSETTO:+0100
TZNAME:IST
DTSTART:20220327T010000
END:STANDARD
BEGIN:DAYLIGHT
TZOFFSETFROM:+0100
TZOFFSETTO:+0000
TZNAME:GMT
DTSTART:20221030T010000
END:DAYLIGHT
BEGIN:STANDARD
TZOFFSETFROM:+0000
TZOFFSETTO:+0100
TZNAME:IST
DTSTART:20230326T010000
END:STANDARD
BEGIN:DAYLIGHT
TZOFFSETFROM:+0100
TZOFFSETTO:+0000
TZNAME:GMT
DTSTART:20231029T010000
END:DAYLIGHT
BEGIN:STANDARD
TZOFFSETFROM:+0000
TZOFFSETTO:+0100
TZNAME:IST
DTSTART:20240331T010000
END:STANDARD
BEGIN:DAYLIGHT
TZOFFSETFROM:+0100
TZOFFSETTO:+0000
TZNAME:GMT
DTSTART:20241027T010000
END:DAYLIGHT
END:VTIMEZONE
BEGIN:VEVENT
DTSTART;TZID=Europe/Dublin:20230707T180000
DTEND;TZID=Europe/Dublin:20230707T180000
DTSTAMP:20260425T160954
CREATED:20230705T113533Z
LAST-MODIFIED:20230705T115730Z
UID:8854-1688752800-1688752800@igi.ie
SUMMARY:Geologists Association talk: “BGS Geomaterials Collections-200 years in the making”
DESCRIPTION:Geologists Association\, London talk online via Zoom\, on Friday 7th July at 6pm \nBy  Mike Howe of The British Geological Survey. \nNon-members of the Geological Association need to register by emailing sarah@geologistsassociation.org.uk \nFor more information please see flyer here
URL:https://igi.ie/event/geologists-association-talk-bgs-geomaterials-collections-200-years-in-the-making/
LOCATION:ZOOM
CATEGORIES:Event
END:VEVENT
END:VCALENDAR