BEGIN:VCALENDAR
VERSION:2.0
PRODID:-//The Institute of Geologists of Ireland - ECPv6.15.20//NONSGML v1.0//EN
CALSCALE:GREGORIAN
METHOD:PUBLISH
X-WR-CALNAME:The Institute of Geologists of Ireland
X-ORIGINAL-URL:https://igi.ie
X-WR-CALDESC:Events for The Institute of Geologists of Ireland
REFRESH-INTERVAL;VALUE=DURATION:PT1H
X-Robots-Tag:noindex
X-PUBLISHED-TTL:PT1H
BEGIN:VTIMEZONE
TZID:Europe/Dublin
BEGIN:STANDARD
TZOFFSETFROM:+0000
TZOFFSETTO:+0100
TZNAME:IST
DTSTART:20240331T010000
END:STANDARD
BEGIN:DAYLIGHT
TZOFFSETFROM:+0100
TZOFFSETTO:+0000
TZNAME:GMT
DTSTART:20241027T010000
END:DAYLIGHT
BEGIN:STANDARD
TZOFFSETFROM:+0000
TZOFFSETTO:+0100
TZNAME:IST
DTSTART:20250330T010000
END:STANDARD
BEGIN:DAYLIGHT
TZOFFSETFROM:+0100
TZOFFSETTO:+0000
TZNAME:GMT
DTSTART:20251026T010000
END:DAYLIGHT
BEGIN:STANDARD
TZOFFSETFROM:+0000
TZOFFSETTO:+0100
TZNAME:IST
DTSTART:20260329T010000
END:STANDARD
BEGIN:DAYLIGHT
TZOFFSETFROM:+0100
TZOFFSETTO:+0000
TZNAME:GMT
DTSTART:20261025T010000
END:DAYLIGHT
END:VTIMEZONE
BEGIN:VEVENT
DTSTART;VALUE=DATE:20250228
DTEND;VALUE=DATE:20250303
DTSTAMP:20260420T034551
CREATED:20241127T113602Z
LAST-MODIFIED:20250122T125246Z
UID:10586-1740700800-1740959999@igi.ie
SUMMARY:68th Irish Geological Researchers Meeting (IGRM)
DESCRIPTION:The 68th Irish Geological Researchers Meeting (IGRM)– will take place between Friday 28th February and Sunday 2nd March 2025 in Trinity College Dublin. The format will be similar to previous years\, with guest speakers and social events on Friday and Saturday evenings and general sessions all Saturday and much of Sunday. \nOnline forms for registration\, dinner and abstracts are now online at: \nhttps://www.eventbrite.com/e/68th-irish-geological-research-meeting-2025-igrm25-tickets-1114056706599 \nDetails on Presentations and Abstracts are also available at the Eventbrite link. \nPlease note\, Abstracts are due on 14th February. \nThe IGA will be awarding the best Student Talks in memory of the late Barry Long (GSI) and best Student Posters at the end of the meeting.
URL:https://igi.ie/event/68th-igrm-save-the-date/
LOCATION:Trinity College\, Dublin\, Dublin\, D02 KV91\, Ireland
CATEGORIES:Event
END:VEVENT
END:VCALENDAR