BEGIN:VCALENDAR
VERSION:2.0
PRODID:-//The Institute of Geologists of Ireland - ECPv6.15.20//NONSGML v1.0//EN
CALSCALE:GREGORIAN
METHOD:PUBLISH
X-WR-CALNAME:The Institute of Geologists of Ireland
X-ORIGINAL-URL:https://igi.ie
X-WR-CALDESC:Events for The Institute of Geologists of Ireland
REFRESH-INTERVAL;VALUE=DURATION:PT1H
X-Robots-Tag:noindex
X-PUBLISHED-TTL:PT1H
BEGIN:VTIMEZONE
TZID:Europe/Dublin
BEGIN:STANDARD
TZOFFSETFROM:+0000
TZOFFSETTO:+0100
TZNAME:IST
DTSTART:20240331T010000
END:STANDARD
BEGIN:DAYLIGHT
TZOFFSETFROM:+0100
TZOFFSETTO:+0000
TZNAME:GMT
DTSTART:20241027T010000
END:DAYLIGHT
BEGIN:STANDARD
TZOFFSETFROM:+0000
TZOFFSETTO:+0100
TZNAME:IST
DTSTART:20250330T010000
END:STANDARD
BEGIN:DAYLIGHT
TZOFFSETFROM:+0100
TZOFFSETTO:+0000
TZNAME:GMT
DTSTART:20251026T010000
END:DAYLIGHT
BEGIN:STANDARD
TZOFFSETFROM:+0000
TZOFFSETTO:+0100
TZNAME:IST
DTSTART:20260329T010000
END:STANDARD
BEGIN:DAYLIGHT
TZOFFSETFROM:+0100
TZOFFSETTO:+0000
TZNAME:GMT
DTSTART:20261025T010000
END:DAYLIGHT
END:VTIMEZONE
BEGIN:VEVENT
DTSTART;VALUE=DATE:20250313
DTEND;VALUE=DATE:20250314
DTSTAMP:20260420T034549
CREATED:20250115T172817Z
LAST-MODIFIED:20250205T121924Z
UID:10663-1741824000-1741910399@igi.ie
SUMMARY:Ireland Brownfield Network Conference
DESCRIPTION:The Ireland Brownfield Network Conference – IBN are hosting their conference in 63 Merrion Square\, Dublin on 13th March 2025. \nMore details are now available for this conference which will have the theme of “Climate\, Housing and Biodiversity are all in crisis – Can brownfield development provide the solutions?”. \nJoin IBN for a day of talks and networking to discuss and learn how brownfield sites can play an important part in resolving the triple crisis facing our climate\, housing and biodiversity. \nConfirmed speakers include leading industry experts from Department of Environment Climate and Communications\, EPA\, Normec DETs\, QUB\, CL:AIRE and more! \nTickets cost €80 per person and places are limited so book your place now at: Ireland Brownfield Network 2025 Conference Tickets\, Thu 13 Mar 2025 at 09:00 | Eventbrite
URL:https://igi.ie/event/save-the-date-ireland-brownfield-network-conference/
LOCATION:63 Merrion Square\, Dublin and Online\, Dublin 2\, Ireland
CATEGORIES:Event
END:VEVENT
END:VCALENDAR