BEGIN:VCALENDAR
VERSION:2.0
PRODID:-//The Institute of Geologists of Ireland - ECPv6.15.20//NONSGML v1.0//EN
CALSCALE:GREGORIAN
METHOD:PUBLISH
X-ORIGINAL-URL:https://igi.ie
X-WR-CALDESC:Events for The Institute of Geologists of Ireland
REFRESH-INTERVAL;VALUE=DURATION:PT1H
X-Robots-Tag:noindex
X-PUBLISHED-TTL:PT1H
BEGIN:VTIMEZONE
TZID:Europe/Dublin
BEGIN:STANDARD
TZOFFSETFROM:+0000
TZOFFSETTO:+0100
TZNAME:IST
DTSTART:20240331T010000
END:STANDARD
BEGIN:DAYLIGHT
TZOFFSETFROM:+0100
TZOFFSETTO:+0000
TZNAME:GMT
DTSTART:20241027T010000
END:DAYLIGHT
BEGIN:STANDARD
TZOFFSETFROM:+0000
TZOFFSETTO:+0100
TZNAME:IST
DTSTART:20250330T010000
END:STANDARD
BEGIN:DAYLIGHT
TZOFFSETFROM:+0100
TZOFFSETTO:+0000
TZNAME:GMT
DTSTART:20251026T010000
END:DAYLIGHT
BEGIN:STANDARD
TZOFFSETFROM:+0000
TZOFFSETTO:+0100
TZNAME:IST
DTSTART:20260329T010000
END:STANDARD
BEGIN:DAYLIGHT
TZOFFSETFROM:+0100
TZOFFSETTO:+0000
TZNAME:GMT
DTSTART:20261025T010000
END:DAYLIGHT
END:VTIMEZONE
BEGIN:VEVENT
DTSTART;TZID=Europe/Dublin:20250408T180000
DTEND;TZID=Europe/Dublin:20250408T180000
DTSTAMP:20260420T023158
CREATED:20250402T160726Z
LAST-MODIFIED:20250402T163532Z
UID:10899-1744135200-1744135200@igi.ie
SUMMARY:Belfast Geologists' Society AGM & Lecture
DESCRIPTION:The AGM will be followed by a talk from Ian Enlander: \n‘An Alaskan Adventure: the geology and wildlife of coastal Alaska’. \nVenue: Methodist College Belfast. Tuesday 8th April 6.00pm -6.30pm AGM. Tea/ coffee 6.30-7.00pm. Talk starts at 7.00pm. \nMore details available by emailing Ian Enlander at belfastgeologists@live.co.uk
URL:https://igi.ie/event/belfast-geologists-society-agm-lecture/
LOCATION:Methodist College Belfast and on Zoom\, 1 Malone Rd\, Belfast\, BT9 6BY\, United Kingdom
CATEGORIES:Event
END:VEVENT
END:VCALENDAR