BEGIN:VCALENDAR
VERSION:2.0
PRODID:-//The Institute of Geologists of Ireland - ECPv6.15.20//NONSGML v1.0//EN
CALSCALE:GREGORIAN
METHOD:PUBLISH
X-WR-CALNAME:The Institute of Geologists of Ireland
X-ORIGINAL-URL:https://igi.ie
X-WR-CALDESC:Events for The Institute of Geologists of Ireland
REFRESH-INTERVAL;VALUE=DURATION:PT1H
X-Robots-Tag:noindex
X-PUBLISHED-TTL:PT1H
BEGIN:VTIMEZONE
TZID:Europe/Dublin
BEGIN:STANDARD
TZOFFSETFROM:+0000
TZOFFSETTO:+0100
TZNAME:IST
DTSTART:20240331T010000
END:STANDARD
BEGIN:DAYLIGHT
TZOFFSETFROM:+0100
TZOFFSETTO:+0000
TZNAME:GMT
DTSTART:20241027T010000
END:DAYLIGHT
BEGIN:STANDARD
TZOFFSETFROM:+0000
TZOFFSETTO:+0100
TZNAME:IST
DTSTART:20250330T010000
END:STANDARD
BEGIN:DAYLIGHT
TZOFFSETFROM:+0100
TZOFFSETTO:+0000
TZNAME:GMT
DTSTART:20251026T010000
END:DAYLIGHT
BEGIN:STANDARD
TZOFFSETFROM:+0000
TZOFFSETTO:+0100
TZNAME:IST
DTSTART:20260329T010000
END:STANDARD
BEGIN:DAYLIGHT
TZOFFSETFROM:+0100
TZOFFSETTO:+0000
TZNAME:GMT
DTSTART:20261025T010000
END:DAYLIGHT
END:VTIMEZONE
BEGIN:VEVENT
DTSTART;VALUE=DATE:20250611
DTEND;VALUE=DATE:20250613
DTSTAMP:20260420T002614
CREATED:20250507T111259Z
LAST-MODIFIED:20250507T111259Z
UID:10959-1749600000-1749772799@igi.ie
SUMMARY:IGI / Equipe Group Soil & Rock Logging Course
DESCRIPTION:IGI are organising a two-day\, in-person Soil and Rock Logging Course to be provided by Julian Lovell of the Equipe Group. \nThe course will be held on 11th/12th June 2025\, at the City North Hotel\, Gormanstown\, Co. Meath. \nThe course is sponsored by Causeway Geotech who will be providing soil and core samples. Further details are in the poster here. \nPlease email the office at info@igi.ie to register as soon as possible as places are limited to 15 people. \nCosts for the 2-day course\, with lunch included on both days\, are €400 for IGI members and €500 for non-IGI members.
URL:https://igi.ie/event/igi-equipe-group-soil-rock-logging-course/
LOCATION:City North Hotel\, Gormanstown\, Co. Meath\, Gormanstown\, Co. Meath\, Gormanstown\, K32 W562\, Ireland
CATEGORIES:Courses and Training,Event
END:VEVENT
END:VCALENDAR