BEGIN:VCALENDAR
VERSION:2.0
PRODID:-//The Institute of Geologists of Ireland - ECPv6.15.20//NONSGML v1.0//EN
CALSCALE:GREGORIAN
METHOD:PUBLISH
X-WR-CALNAME:The Institute of Geologists of Ireland
X-ORIGINAL-URL:https://igi.ie
X-WR-CALDESC:Events for The Institute of Geologists of Ireland
REFRESH-INTERVAL;VALUE=DURATION:PT1H
X-Robots-Tag:noindex
X-PUBLISHED-TTL:PT1H
BEGIN:VTIMEZONE
TZID:Europe/Dublin
BEGIN:STANDARD
TZOFFSETFROM:+0000
TZOFFSETTO:+0100
TZNAME:IST
DTSTART:20240331T010000
END:STANDARD
BEGIN:DAYLIGHT
TZOFFSETFROM:+0100
TZOFFSETTO:+0000
TZNAME:GMT
DTSTART:20241027T010000
END:DAYLIGHT
BEGIN:STANDARD
TZOFFSETFROM:+0000
TZOFFSETTO:+0100
TZNAME:IST
DTSTART:20250330T010000
END:STANDARD
BEGIN:DAYLIGHT
TZOFFSETFROM:+0100
TZOFFSETTO:+0000
TZNAME:GMT
DTSTART:20251026T010000
END:DAYLIGHT
BEGIN:STANDARD
TZOFFSETFROM:+0000
TZOFFSETTO:+0100
TZNAME:IST
DTSTART:20260329T010000
END:STANDARD
BEGIN:DAYLIGHT
TZOFFSETFROM:+0100
TZOFFSETTO:+0000
TZNAME:GMT
DTSTART:20261025T010000
END:DAYLIGHT
END:VTIMEZONE
BEGIN:VEVENT
DTSTART;TZID=Europe/Dublin:20250621T103000
DTEND;TZID=Europe/Dublin:20250621T103000
DTSTAMP:20260420T001725
CREATED:20250618T120838Z
LAST-MODIFIED:20250618T120838Z
UID:11030-1750501800-1750501800@igi.ie
SUMMARY:Belfast Geologists Society – Mid-Antrim Iron and Bauxite mines – geology and industrial history
DESCRIPTION:Saturday 21st June 2025. \nMeet: 10.30am at The Drum car park\, Skerry E Rd\, Ballymena BT43 6FG \nLead: Ian Enlander \nFull details at https://belfastgeologists.org/index.php/2024/03/01/mid-antrim-iron-and-bauxite-mines-geology-and-industrial-history/ \nNote that mobile signal is not great in the Cargan area so plan your route in advance\nPlease keep an eye on their events page on their website and on their Facebook page for any last minute changes.\nhttps://belfastgeologists.org/\nhttps://www.facebook.com/p/Belfast-Geologists-Society-100071853709689/
URL:https://igi.ie/event/belfast-geologists-society-mid-antrim-iron-and-bauxite-mines-geology-and-industrial-history/
LOCATION:The Drum car park\, Skerry E Rd\, Ballymena\, Skerry E Rd\, Ballymana\, BT43 6FG\, United Kingdom
CATEGORIES:Event
END:VEVENT
END:VCALENDAR