BEGIN:VCALENDAR
VERSION:2.0
PRODID:-//The Institute of Geologists of Ireland - ECPv6.15.20//NONSGML v1.0//EN
CALSCALE:GREGORIAN
METHOD:PUBLISH
X-WR-CALNAME:The Institute of Geologists of Ireland
X-ORIGINAL-URL:https://igi.ie
X-WR-CALDESC:Events for The Institute of Geologists of Ireland
REFRESH-INTERVAL;VALUE=DURATION:PT1H
X-Robots-Tag:noindex
X-PUBLISHED-TTL:PT1H
BEGIN:VTIMEZONE
TZID:Europe/Dublin
BEGIN:STANDARD
TZOFFSETFROM:+0000
TZOFFSETTO:+0100
TZNAME:IST
DTSTART:20240331T010000
END:STANDARD
BEGIN:DAYLIGHT
TZOFFSETFROM:+0100
TZOFFSETTO:+0000
TZNAME:GMT
DTSTART:20241027T010000
END:DAYLIGHT
BEGIN:STANDARD
TZOFFSETFROM:+0000
TZOFFSETTO:+0100
TZNAME:IST
DTSTART:20250330T010000
END:STANDARD
BEGIN:DAYLIGHT
TZOFFSETFROM:+0100
TZOFFSETTO:+0000
TZNAME:GMT
DTSTART:20251026T010000
END:DAYLIGHT
BEGIN:STANDARD
TZOFFSETFROM:+0000
TZOFFSETTO:+0100
TZNAME:IST
DTSTART:20260329T010000
END:STANDARD
BEGIN:DAYLIGHT
TZOFFSETFROM:+0100
TZOFFSETTO:+0000
TZNAME:GMT
DTSTART:20261025T010000
END:DAYLIGHT
END:VTIMEZONE
BEGIN:VEVENT
DTSTART;TZID=Europe/Dublin:20250626T104500
DTEND;TZID=Europe/Dublin:20250626T104500
DTSTAMP:20260420T001704
CREATED:20250618T121343Z
LAST-MODIFIED:20250625T143104Z
UID:11034-1750934700-1750934700@igi.ie
SUMMARY:BGS – Wild Ireland: An exhibition at the Ulster Museum (Please note change of date and time)
DESCRIPTION:Lead: Dr Mike Simms \nWhen: Thursday 26th June\, 10.45 a.m. \nMeet: Entrance hall of the Ulster Museum. \nA curator-led tour of the exhibition (which is open until 31st August if you cant make this trip)\, showcasing 60 paintings by Julian Friars who worked in collaboration with Mike to explore the changing fortunes of some of Ireland’s wildlife\, from long-extinct giant millipedes\, through Ice Age ‘monsters’\, to extant wildlife. An absolute MUST SEE \nFurther information at https://www.ulstermuseum.org/whats-on/wild-ireland-past-present-future\nPlease keep an eye on their events page on their website and on their Facebook page for any last minute changes.\nhttps://belfastgeologists.org/\nhttps://www.facebook.com/p/Belfast-Geologists-Society-100071853709689/
URL:https://igi.ie/event/belfast-geologists-society-wild-ireland-an-exhibition-at-the-ulster-museum/
LOCATION:Ulster Museum\, Botanic Gardens\, Belfast\, County Antrim BT9 5AB\, United Kingdom\, Belfast\, Ireland
CATEGORIES:Event
END:VEVENT
BEGIN:VEVENT
DTSTART;TZID=Europe/Dublin:20250626T160000
DTEND;TZID=Europe/Dublin:20250626T170000
DTSTAMP:20260420T001704
CREATED:20250611T113709Z
LAST-MODIFIED:20250611T113814Z
UID:11018-1750953600-1750957200@igi.ie
SUMMARY:GSNI Northern Ireland Geothermal Webinar Series
DESCRIPTION:The sixth webinar in the 2025 Northern Ireland Geothermal Webinar Series takes place on Thursday 26th June between 16:00 and 17:00. \nProfessor Neil Hewitt\, Director of the Centre for Sustainable Technologies at Ulster University will provide an overview of geothermal heat pumps and how they can be used for space and process heating. \nCase studies and other approaches will explore how we can utilise the “heat beneath our feet”. \nRegister via the Eventbrite link: Geothermal Heat Pumps – How Much Can We Multiply the Temperature Down There Tickets\, Thu\, Jun 26\, 2025 at 4:00 PM | Eventbrite
URL:https://igi.ie/event/gsni-northern-ireland-geothermal-webinar-series-12/
LOCATION:Webinar
CATEGORIES:Event,Lectures
END:VEVENT
END:VCALENDAR