BEGIN:VCALENDAR
VERSION:2.0
PRODID:-//The Institute of Geologists of Ireland - ECPv6.15.20//NONSGML v1.0//EN
CALSCALE:GREGORIAN
METHOD:PUBLISH
X-WR-CALNAME:The Institute of Geologists of Ireland
X-ORIGINAL-URL:https://igi.ie
X-WR-CALDESC:Events for The Institute of Geologists of Ireland
REFRESH-INTERVAL;VALUE=DURATION:PT1H
X-Robots-Tag:noindex
X-PUBLISHED-TTL:PT1H
BEGIN:VTIMEZONE
TZID:Europe/Dublin
BEGIN:STANDARD
TZOFFSETFROM:+0000
TZOFFSETTO:+0100
TZNAME:IST
DTSTART:20240331T010000
END:STANDARD
BEGIN:DAYLIGHT
TZOFFSETFROM:+0100
TZOFFSETTO:+0000
TZNAME:GMT
DTSTART:20241027T010000
END:DAYLIGHT
BEGIN:STANDARD
TZOFFSETFROM:+0000
TZOFFSETTO:+0100
TZNAME:IST
DTSTART:20250330T010000
END:STANDARD
BEGIN:DAYLIGHT
TZOFFSETFROM:+0100
TZOFFSETTO:+0000
TZNAME:GMT
DTSTART:20251026T010000
END:DAYLIGHT
BEGIN:STANDARD
TZOFFSETFROM:+0000
TZOFFSETTO:+0100
TZNAME:IST
DTSTART:20260329T010000
END:STANDARD
BEGIN:DAYLIGHT
TZOFFSETFROM:+0100
TZOFFSETTO:+0000
TZNAME:GMT
DTSTART:20261025T010000
END:DAYLIGHT
END:VTIMEZONE
BEGIN:VEVENT
DTSTART;VALUE=DATE:20251126
DTEND;VALUE=DATE:20251128
DTSTAMP:20260419T134439
CREATED:20251112T104810Z
LAST-MODIFIED:20251112T110916Z
UID:11448-1764115200-1764287999@igi.ie
SUMMARY:Irish UNESCO Geopark Public Forum
DESCRIPTION:The Irish UNESCO Global Geoparks Network Annual Public Forum will be hosted by the Burren Cliffs of Moher\, UNESCO Global Geopark at Hotel Doolin\, Doolin\, Co. Clare on Wednesday 26th (10am-5pm) and Thursday 27th November (9:30am – 4pm). \nThe theme of this year’s forum is “Natural Capital Unpackaged – How UNESCO Global Geoparks can play a role”. \nThe first day will comprise talks from a range of speakers from GSI\, GSNI\, UNESCO\, Clare County Council and others\, which will be followed by a Fieldtrip on the second day. \nMore information is available from this link Irish Geoparks Forum 2025 Further Information | The Burren and Cliffs of Moher UNESCO Global Geopark
URL:https://igi.ie/event/irish-unesco-geopark-public-forum/
LOCATION:Hotel Doolin\, Co Clare\, Hotel Doolin\, Rivervale\, Doolin\, Co. Clare\, Ireland\, Doolin\, Ireland
CATEGORIES:Event
END:VEVENT
END:VCALENDAR