BEGIN:VCALENDAR
VERSION:2.0
PRODID:-//The Institute of Geologists of Ireland - ECPv6.15.20//NONSGML v1.0//EN
CALSCALE:GREGORIAN
METHOD:PUBLISH
X-WR-CALNAME:The Institute of Geologists of Ireland
X-ORIGINAL-URL:https://igi.ie
X-WR-CALDESC:Events for The Institute of Geologists of Ireland
REFRESH-INTERVAL;VALUE=DURATION:PT1H
X-Robots-Tag:noindex
X-PUBLISHED-TTL:PT1H
BEGIN:VTIMEZONE
TZID:Europe/Dublin
BEGIN:STANDARD
TZOFFSETFROM:+0000
TZOFFSETTO:+0100
TZNAME:IST
DTSTART:20240331T010000
END:STANDARD
BEGIN:DAYLIGHT
TZOFFSETFROM:+0100
TZOFFSETTO:+0000
TZNAME:GMT
DTSTART:20241027T010000
END:DAYLIGHT
BEGIN:STANDARD
TZOFFSETFROM:+0000
TZOFFSETTO:+0100
TZNAME:IST
DTSTART:20250330T010000
END:STANDARD
BEGIN:DAYLIGHT
TZOFFSETFROM:+0100
TZOFFSETTO:+0000
TZNAME:GMT
DTSTART:20251026T010000
END:DAYLIGHT
BEGIN:STANDARD
TZOFFSETFROM:+0000
TZOFFSETTO:+0100
TZNAME:IST
DTSTART:20260329T010000
END:STANDARD
BEGIN:DAYLIGHT
TZOFFSETFROM:+0100
TZOFFSETTO:+0000
TZNAME:GMT
DTSTART:20261025T010000
END:DAYLIGHT
END:VTIMEZONE
BEGIN:VEVENT
DTSTART;TZID=Europe/Dublin:20250311T183000
DTEND;TZID=Europe/Dublin:20250311T200000
DTSTAMP:20260419T132017
CREATED:20250305T104205Z
LAST-MODIFIED:20250305T104312Z
UID:10819-1741717800-1741723200@igi.ie
SUMMARY:Belfast Geologists Society – Northern Ireland Geotechnical Group Public Lecture
DESCRIPTION:Lecture entitled “From Mud to Rock and Back” will be given by Dr. John Cripps on Tuesday 11th March 2025. \nThis will be an in-person event with refreshments and networking. Refreshments and Networking will be from 6pm to 6-30pm\, to be followed by the Presentation between 6-30pm and 8pm. \nThis event will be held in the School of the Natural Built Environment\, Elmwood Building (Geography)\, Lecture Theatre OG-029\, Queen’s University Belfast.  \nNo registration is necessary – just turn up\, everyone is welcome. Dr John Cripps is an Engineering geologist with about 50 years of experience mostly as an academic in the Department of Geology and from 2000 the Department of Civil and Structural Engineering at the University of Sheﬃeld. Now retired\, John is still active in research\, editing\, consultancy and geological conservation work.
URL:https://igi.ie/event/belfast-geologists-society-northern-ireland-geotechnical-group-public-lectu/
LOCATION:Queens University Belfast\, University Rd\, Belfast BT7 1NN\,\, Belfast\, BT7 1NN\, United Kingdom
CATEGORIES:Event,Lectures
END:VEVENT
END:VCALENDAR