BEGIN:VCALENDAR
VERSION:2.0
PRODID:-//The Institute of Geologists of Ireland - ECPv6.15.20//NONSGML v1.0//EN
CALSCALE:GREGORIAN
METHOD:PUBLISH
X-ORIGINAL-URL:https://igi.ie
X-WR-CALDESC:Events for The Institute of Geologists of Ireland
REFRESH-INTERVAL;VALUE=DURATION:PT1H
X-Robots-Tag:noindex
X-PUBLISHED-TTL:PT1H
BEGIN:VTIMEZONE
TZID:Europe/Dublin
BEGIN:STANDARD
TZOFFSETFROM:+0000
TZOFFSETTO:+0100
TZNAME:IST
DTSTART:20220327T010000
END:STANDARD
BEGIN:DAYLIGHT
TZOFFSETFROM:+0100
TZOFFSETTO:+0000
TZNAME:GMT
DTSTART:20221030T010000
END:DAYLIGHT
BEGIN:STANDARD
TZOFFSETFROM:+0000
TZOFFSETTO:+0100
TZNAME:IST
DTSTART:20230326T010000
END:STANDARD
BEGIN:DAYLIGHT
TZOFFSETFROM:+0100
TZOFFSETTO:+0000
TZNAME:GMT
DTSTART:20231029T010000
END:DAYLIGHT
BEGIN:STANDARD
TZOFFSETFROM:+0000
TZOFFSETTO:+0100
TZNAME:IST
DTSTART:20240331T010000
END:STANDARD
BEGIN:DAYLIGHT
TZOFFSETFROM:+0100
TZOFFSETTO:+0000
TZNAME:GMT
DTSTART:20241027T010000
END:DAYLIGHT
END:VTIMEZONE
BEGIN:VEVENT
DTSTART;TZID=Europe/Dublin:20230404T180000
DTEND;TZID=Europe/Dublin:20230404T180000
DTSTAMP:20260423T211722
CREATED:20230329T161631Z
LAST-MODIFIED:20230329T164523Z
UID:8616-1680631200-1680631200@igi.ie
SUMMARY:Belfast Geologists' Society - Annual General Meeting and Presentation
DESCRIPTION:Annual General Meeting \nfollowed by a presentation entitled:\n“Favourite Places and People”\nWith a focus on the North Atlantic Igneous Province.\nby Karen Park\, Hon President\, Belfast Geologists’ Society. \nThe AGM and talk will be held in the Belfast room at the Ulster Museum \nFurther details can be found on http://www.belfastgeologists.org.uk/newspage.htm. \nThe AGM and Karen’s talk will also be available via Zoom (details on website).
URL:https://igi.ie/event/belfast-geol-soc-annual-general-meeting-and-presentation/
LOCATION:Belfast Room\, Ulster Museum and on ZOOM\, Botanic Gardens\,\, Belfast\, BT9 5AB\, United Kingdom
CATEGORIES:Event
END:VEVENT
BEGIN:VEVENT
DTSTART;VALUE=DATE:20230415
DTEND;VALUE=DATE:20230416
DTSTAMP:20260423T211722
CREATED:20230412T184239Z
LAST-MODIFIED:20230412T184239Z
UID:8646-1681516800-1681603199@igi.ie
SUMMARY:Galway Geological Association (GGA) - Fieldtrip
DESCRIPTION:Galway Geological Association (GGA) are holding a fieldtrip this Saturday 15th April to Ceide Fields and Belderrig. \nMore details on registration and itinerary are available at Galway Geological Association – Our Program (galwaygeology.net). \nTo join the trip\, please email galwaygeology@gmail.com as soon as possible.
URL:https://igi.ie/event/galway-geological-association-gga-fieldtrip/
LOCATION:Ceide Fields and Belderrig\, Glenurla\, Co. Mayo\,\, F26 PF66\, Ireland
CATEGORIES:Event
END:VEVENT
BEGIN:VEVENT
DTSTART;VALUE=DATE:20230418
DTEND;VALUE=DATE:20230420
DTSTAMP:20260423T211722
CREATED:20221220T161219Z
LAST-MODIFIED:20230301T155427Z
UID:8363-1681776000-1681948799@igi.ie
SUMMARY:IAH Annual Conference
DESCRIPTION:The IAH Annual Conference will be held as an in-person event on the 18th and 19th April 2023 in the Tullamore Court Hotel.\nThe theme is:\nGroundwater and Planning. \nSee Conference Notice here \nFurther details on how to register can be found at this link: https://www.eventbrite.ie/e/43rd-annual-iah-irish-group-conference-tickets-544634645887
URL:https://igi.ie/event/iah-annual-conference/
LOCATION:Tullamore Court Hotel\, Co. Offaly\, O Moore Street\,\, Tullamore\, Ireland
CATEGORIES:Conferences,Event
END:VEVENT
BEGIN:VEVENT
DTSTART;TZID=Europe/Dublin:20230420T173000
DTEND;TZID=Europe/Dublin:20230420T173000
DTSTAMP:20260423T211722
CREATED:20230419T164511Z
LAST-MODIFIED:20230419T164920Z
UID:8662-1682011800-1682011800@igi.ie
SUMMARY:Irish Geological Association (IGA): 2023 AGM and “Rock Roadshow”
DESCRIPTION:Irish Geological Association (IGA) are holding their 2023 AGM (and “Rock Roadshow”) Thursday 20th April 2023 in-person at Pearse Street Library\, Pearse St.\, Dublin 2 and via Zoom. \nThe Rock Roadshow opens from 5.30pm and the AGM starts at 6pm. More information and how to register can be found on the IGA website \nIGA AGM 2023 & Rock Roadshow – RESCHEDULED Thursday 20th April Rock Exhibition open from 5:30pm AGM @ 6pm – Irish Geological Association (geology.ie). \nPlease note\, you must be an IGA member in order to attend and vote at the IGA AGM.
URL:https://igi.ie/event/irish-geological-association-iga-2023-agm-and-rock-roadshow/
LOCATION:Pearse Street Library and Zoom\, Pearse Street\,\, Dublin 2\, Ireland
CATEGORIES:Event
END:VEVENT
BEGIN:VEVENT
DTSTART;TZID=Europe/Dublin:20230425T070000
DTEND;TZID=Europe/Dublin:20230425T200000
DTSTAMP:20260423T211722
CREATED:20230419T165817Z
LAST-MODIFIED:20230419T165817Z
UID:8667-1682406000-1682452800@igi.ie
SUMMARY:IGA lecture: ” A perspective on Geology in Art”
DESCRIPTION:The lecture will be given by Dr. Bill Sheppard (Trails Creative) \nMore information and how to register can be found at the IGA events page: \nIrish Geological Association Lecture (hybrid): “A perspective on Geology in Art” by Dr Bill Sheppard (Trails Creative) – Irish Geological Association.
URL:https://igi.ie/event/iga-lecture-a-perspective-on-geology-in-art/
LOCATION:Haughton Theatre\, Museum Building\, Trinity College Dublin\, Trinity College\,\, Dublin\, Ireland
CATEGORIES:Event,Lectures
END:VEVENT
BEGIN:VEVENT
DTSTART;TZID=Europe/Dublin:20230425T100000
DTEND;TZID=Europe/Dublin:20230425T160000
DTSTAMP:20260423T211722
CREATED:20230419T173907Z
LAST-MODIFIED:20230419T173907Z
UID:8671-1682416800-1682438400@igi.ie
SUMMARY:DECC: Sustainable Development Goals (SDG) Forum :
DESCRIPTION:Department of Environment\, Climate and Communications (DECC) are holding a \nSustainable Development Goals (SDG) Forum \nTuesday 25th April 2023\, between 10am and 4pm\, \nonline and in-person at the Aviva Stadium\, Dublin. \nMore information is available on Geological Survey of Ireland’s webpage here: \nDECC April 2023 Sustainable Development Goals National Stakeholder Forum (gsi.ie). \nIn-person registration ended last Friday\, but you can still register to attend online here: \nSustainable Development Goals National Stakeholder Forum: Ireland’s 2023 Voluntary National Review.
URL:https://igi.ie/event/decc-sustainable-development-goals-sdg-forum/
LOCATION:Aviva Stadium\, Dublin and Online\, Lansdowne Rd\,\, Dublin 4\, Ireland
CATEGORIES:Event
END:VEVENT
BEGIN:VEVENT
DTSTART;TZID=Europe/Dublin:20230426T130000
DTEND;TZID=Europe/Dublin:20230426T130000
DTSTAMP:20260423T211722
CREATED:20230209T103551Z
LAST-MODIFIED:20230419T185015Z
UID:8451-1682514000-1682514000@igi.ie
SUMMARY:UCD School of Earth Sciences talk: “Towards an understanding of Early Jurassic Earth system and timescale: recent results from new and legacy cores.”
DESCRIPTION:Stephen Hesselbo – Camborne School of Mines\, University of Exeter \nThese will take place every week until Wednesday 26th April\, aside from during the 2-week midterm break (15th & 22nd March). \nPlease see flyer here \nSeminars – UCD School of Earth Sciences
URL:https://igi.ie/event/bed-ucd-seminar-series-project-greendrill-site-selection-for-cosmogenic-nuclide-exposure-dating-of-the-greenland-ice-sheet-bed/
LOCATION:ZOOM
CATEGORIES:Event,Seminars
END:VEVENT
BEGIN:VEVENT
DTSTART;TZID=Europe/Dublin:20230426T193000
DTEND;TZID=Europe/Dublin:20230426T193000
DTSTAMP:20260423T211722
CREATED:20230412T184702Z
LAST-MODIFIED:20230412T184702Z
UID:8650-1682537400-1682537400@igi.ie
SUMMARY:Cork Geological Association lecture: “Geo-forensics in action”
DESCRIPTION:The Cork Geological Association will be holding a lecture via Zoom on Wednesday 26th April 2023 at 7:30pm. \nBy Prof. Cynthia Burek\, Professor of Geo-conservation\, University of Chester \nentitled:  “Geo-forensics in action”. \nTo register for this Zoom talk\, please email b.higgs@ucc.ie
URL:https://igi.ie/event/cork-geological-association-lecture-geo-forensics-in-action/
LOCATION:ZOOM
CATEGORIES:Event,Lectures
END:VEVENT
BEGIN:VEVENT
DTSTART;TZID=Europe/Dublin:20230427T130000
DTEND;TZID=Europe/Dublin:20230427T130000
DTSTAMP:20260423T211722
CREATED:20230426T122536Z
LAST-MODIFIED:20230426T122536Z
UID:8689-1682600400-1682600400@igi.ie
SUMMARY:NUI Society of Economic Geologists (SEG) Student Chapter lecture
DESCRIPTION:“Selling Planet Earth – Communicating geoscience for society”  \nNUI Society of Economic Geologists (SEG) Student Chapter Zoom lecture this Thursday 27th April 2023 at 1pm. to be given by Prof. Iain Stewart. \nFurther details and how to register for this online lecture are shown in the flyer here \nFor further information\, please contact nui.seg@gmail.com
URL:https://igi.ie/event/nui-society-of-economic-geologists-seg-student-chapter-lecture/
LOCATION:ZOOM
CATEGORIES:Event,Lectures
END:VEVENT
END:VCALENDAR