BEGIN:VCALENDAR
VERSION:2.0
PRODID:-//The Institute of Geologists of Ireland - ECPv6.15.20//NONSGML v1.0//EN
CALSCALE:GREGORIAN
METHOD:PUBLISH
X-WR-CALNAME:The Institute of Geologists of Ireland
X-ORIGINAL-URL:https://igi.ie
X-WR-CALDESC:Events for The Institute of Geologists of Ireland
REFRESH-INTERVAL;VALUE=DURATION:PT1H
X-Robots-Tag:noindex
X-PUBLISHED-TTL:PT1H
BEGIN:VTIMEZONE
TZID:Europe/Dublin
BEGIN:STANDARD
TZOFFSETFROM:+0000
TZOFFSETTO:+0100
TZNAME:IST
DTSTART:20220327T010000
END:STANDARD
BEGIN:DAYLIGHT
TZOFFSETFROM:+0100
TZOFFSETTO:+0000
TZNAME:GMT
DTSTART:20221030T010000
END:DAYLIGHT
BEGIN:STANDARD
TZOFFSETFROM:+0000
TZOFFSETTO:+0100
TZNAME:IST
DTSTART:20230326T010000
END:STANDARD
BEGIN:DAYLIGHT
TZOFFSETFROM:+0100
TZOFFSETTO:+0000
TZNAME:GMT
DTSTART:20231029T010000
END:DAYLIGHT
BEGIN:STANDARD
TZOFFSETFROM:+0000
TZOFFSETTO:+0100
TZNAME:IST
DTSTART:20240331T010000
END:STANDARD
BEGIN:DAYLIGHT
TZOFFSETFROM:+0100
TZOFFSETTO:+0000
TZNAME:GMT
DTSTART:20241027T010000
END:DAYLIGHT
END:VTIMEZONE
BEGIN:VEVENT
DTSTART;VALUE=DATE:20230603
DTEND;VALUE=DATE:20230605
DTSTAMP:20260423T185002
CREATED:20230601T090301Z
LAST-MODIFIED:20230601T090301Z
UID:8788-1685750400-1685923199@igi.ie
SUMMARY:Cuilcagh Lakelands Geopark Events: “National Caves and Karst Day”
DESCRIPTION:Celebrate “National Caves and Karst Day” in the Marble Arch Caves and surrounding areas. \nActivities include Earth Yoga in the cave\, a guided walk of the Gortmaconnell area and an indoor guided walk and Virtual Reality experience. \nFurther details and how to book can be found on this link: \nCelebrate National Caves and Karst Day with the Marble Arch Caves and Cuilcagh Lakelands Geopark | Cuilcagh Lakelands Geopark
URL:https://igi.ie/event/cuilcagh-lakelands-geopark-events-national-caves-and-karst-day/
LOCATION:Marble Arch Caves\, 43 Marlbank Rd\, BT92 1EW\, Enniskillen\, BT92 1EW\, United Kingdom
CATEGORIES:Event
END:VEVENT
BEGIN:VEVENT
DTSTART;VALUE=DATE:20230616
DTEND;VALUE=DATE:20230617
DTSTAMP:20260423T185002
CREATED:20230607T173558Z
LAST-MODIFIED:20230607T175412Z
UID:8804-1686873600-1686959999@igi.ie
SUMMARY:Irish Mining and Quarrying Society (IMQS) - Fieldtrip to Glengowla Mines
DESCRIPTION:Irish Mining and Quarrying Society (IMQS) fieldtrip: \nGlengowla Mines\, Oughterard\, Co. Galway \nFriday 16th June 2023. \nNumbers are limited and priority will be given to IMQS members. \nMore details on itinerary\, cost and payment link are available here: \n2023 Field Trip – Glengowla Mines\, Oughterard\, Galway – IMQS
URL:https://igi.ie/event/irish-mining-and-quarrying-society-imqs-fieldtrip-to-glengowla-mines/
LOCATION:Glengowla Mines\, Oughterard\, Co. Galway\, Oughterard\, Co. Galway\, H91 PX22\, Ireland
CATEGORIES:Event
END:VEVENT
BEGIN:VEVENT
DTSTART;VALUE=DATE:20230616
DTEND;VALUE=DATE:20230619
DTSTAMP:20260423T185002
CREATED:20230607T174938Z
LAST-MODIFIED:20230607T174938Z
UID:8808-1686873600-1687132799@igi.ie
SUMMARY:Irish Geological Association (IGA) Weekend Excursion to North Donegal
DESCRIPTION:Led by Dr. Charlotte Du Pleissis to examine the geology and structure of Glenveagh National Park and surrounding areas. \nDetails on the itinerary and how to register can be found at this link Irish Geological Association – EXCURSION to North Donegal – Irish Geological Association (geology.ie)
URL:https://igi.ie/event/irish-geological-association-iga-weekend-excursion-to-north-donegal/
LOCATION:Glenveagh National Park\, Co Donegal\, Glenveagh Co Donegal\, Ireland
CATEGORIES:Event
END:VEVENT
BEGIN:VEVENT
DTSTART;TZID=Europe/Dublin:20230617T100000
DTEND;TZID=Europe/Dublin:20230617T100000
DTSTAMP:20260423T185002
CREATED:20230614T133147Z
LAST-MODIFIED:20230614T141209Z
UID:8817-1686996000-1686996000@igi.ie
SUMMARY:Galway Geological Association (GGA) Fieldtrip
DESCRIPTION:South West Connemara and Gorumna Island \non Saturday 17th June \nLed by Dr. Sadhbh Baxter\, University of Galway  \nMeeting at the Ionad Oidreachta Leitir Mealláin (Heritage Centre\, Lettermullan)  \nat 10am \nFurther information can be found at this link:\nGalway Geological Association – Our Program (galwaygeology.net) \nemail: galwaygeology@gmail.com to register.
URL:https://igi.ie/event/galway-geological-association-gga-fieldtrip-2/
LOCATION:Ionad Oidreachta Leitir Mealláin (Heritage Centre\, Lettermullan)\, Lettermullan\, Connemara\, Galway\, Ireland
CATEGORIES:Event
END:VEVENT
BEGIN:VEVENT
DTSTART;TZID=Europe/Dublin:20230628T180000
DTEND;TZID=Europe/Dublin:20230628T193000
DTSTAMP:20260423T185002
CREATED:20230601T155018Z
LAST-MODIFIED:20230601T155415Z
UID:8799-1687975200-1687980600@igi.ie
SUMMARY:AGM - Annual General Meeting of the Institute of Geologists of Ireland Limited
DESCRIPTION:The meeting will be a hybrid meeting whereby members will have the option of attending in person or remotely via Zoom. \nWe encourage those that can attend in person to do so and there will be a social reception in Merrion Square following the meeting.
URL:https://igi.ie/event/agm-annual-general-meeting-of-the-institute-of-geologists-of-ireland-limited/
LOCATION:IGI Offices\, No.63 Merrion Square\, Dublin and on ZOOM\, No.63 Merrion Square\, Dublin\, Ireland
CATEGORIES:Event
END:VEVENT
END:VCALENDAR