BEGIN:VCALENDAR
VERSION:2.0
PRODID:-//The Institute of Geologists of Ireland - ECPv6.15.20//NONSGML v1.0//EN
CALSCALE:GREGORIAN
METHOD:PUBLISH
X-WR-CALNAME:The Institute of Geologists of Ireland
X-ORIGINAL-URL:https://igi.ie
X-WR-CALDESC:Events for The Institute of Geologists of Ireland
REFRESH-INTERVAL;VALUE=DURATION:PT1H
X-Robots-Tag:noindex
X-PUBLISHED-TTL:PT1H
BEGIN:VTIMEZONE
TZID:Europe/Dublin
BEGIN:STANDARD
TZOFFSETFROM:+0000
TZOFFSETTO:+0100
TZNAME:IST
DTSTART:20220327T010000
END:STANDARD
BEGIN:DAYLIGHT
TZOFFSETFROM:+0100
TZOFFSETTO:+0000
TZNAME:GMT
DTSTART:20221030T010000
END:DAYLIGHT
BEGIN:STANDARD
TZOFFSETFROM:+0000
TZOFFSETTO:+0100
TZNAME:IST
DTSTART:20230326T010000
END:STANDARD
BEGIN:DAYLIGHT
TZOFFSETFROM:+0100
TZOFFSETTO:+0000
TZNAME:GMT
DTSTART:20231029T010000
END:DAYLIGHT
BEGIN:STANDARD
TZOFFSETFROM:+0000
TZOFFSETTO:+0100
TZNAME:IST
DTSTART:20240331T010000
END:STANDARD
BEGIN:DAYLIGHT
TZOFFSETFROM:+0100
TZOFFSETTO:+0000
TZNAME:GMT
DTSTART:20241027T010000
END:DAYLIGHT
END:VTIMEZONE
BEGIN:VEVENT
DTSTART;TZID=Europe/Dublin:20231004T190000
DTEND;TZID=Europe/Dublin:20231004T210000
DTSTAMP:20260423T031301
CREATED:20231004T113722Z
LAST-MODIFIED:20231004T113722Z
UID:9043-1696446000-1696453200@igi.ie
SUMMARY:GSNI interactive webinar “Geodiversity and you: How Geology made Northern Ireland”
DESCRIPTION:Given by Dr. Kristin Lemon  \nRegister for the webinar using this Zoom link Webinar Registration – Zoom
URL:https://igi.ie/event/gsni-interactive-webinar-geodiversity-and-you-how-geology-made-northern-ireland/
LOCATION:ZOOM
CATEGORIES:Event
END:VEVENT
BEGIN:VEVENT
DTSTART;VALUE=DATE:20231006
DTEND;VALUE=DATE:20231007
DTSTAMP:20260423T031301
CREATED:20231004T114109Z
LAST-MODIFIED:20231004T114109Z
UID:9046-1696550400-1696636799@igi.ie
SUMMARY:International Geodiversity Day
DESCRIPTION:Please see website for events Home | Geodiversity Day.
URL:https://igi.ie/event/international-geodiversity-day/
CATEGORIES:Event
END:VEVENT
BEGIN:VEVENT
DTSTART;TZID=Europe/Dublin:20231006T200000
DTEND;TZID=Europe/Dublin:20231006T213000
DTSTAMP:20260423T031301
CREATED:20231004T122059Z
LAST-MODIFIED:20231004T122059Z
UID:9049-1696622400-1696627800@igi.ie
SUMMARY:Cuilcagh Lakelands UNESCO Geopark - Dark Skies at Cavan Burren Park
DESCRIPTION:Details of this and all the events for Geodiversity day at Cuilcagh Lakelands Geopark can be found at this link Events | Cuilcagh Lakelands Geopark
URL:https://igi.ie/event/cuilcagh-lakelands-unesco-geopark-dark-skies-at-cavan-burren-park/
CATEGORIES:Event
END:VEVENT
BEGIN:VEVENT
DTSTART;TZID=Europe/Dublin:20231007T103000
DTEND;TZID=Europe/Dublin:20231007T123000
DTSTAMP:20260423T031301
CREATED:20231004T124022Z
LAST-MODIFIED:20231004T124022Z
UID:9052-1696674600-1696681800@igi.ie
SUMMARY:Belfast Geologists Society: A short excursion to the geological garden at Crawfordsburn Country Park
DESCRIPTION:Led by: Dr. Michael Dempster \nEarth Science & Heritage Officer\, Northern Ireland Environment Agency. \nMore information can be found at the end of this link Belfast Geologists Summer Programme
URL:https://igi.ie/event/belfast-geologists-society-a-short-excursion-to-the-geological-garden-at-crawfordsburn-country-park/
LOCATION:Crawfordsburn Country Park\, 32 Bridge Rd S\, Helen's Bay\, Bangor\, BT19 1JT\, United Kingdom
CATEGORIES:Event
END:VEVENT
BEGIN:VEVENT
DTSTART;TZID=Europe/Dublin:20231010T140000
DTEND;TZID=Europe/Dublin:20231010T173000
DTSTAMP:20260423T031301
CREATED:20230920T123423Z
LAST-MODIFIED:20230920T123423Z
UID:9018-1696946400-1696959000@igi.ie
SUMMARY:GSI / Geotechnical Society of Ireland: European Ground Motion Service (EGMS) course
DESCRIPTION:Geological Survey Ireland\, along with the Geotechnical Society of Ireland are co-hosting a free half-day course on the European Ground Motion Services (EGMS) on the afternoon of the Monday 10th October in Engineers Ireland\, Clyde Road between 14:00 and 17:30. \nEGMS is a Copernicus Service devoted to the monitoring of land deformation phenomena. \nMore information can be found at this link on GSI website short course on the European Ground Motion Service and here: https://www.gsi.ie/documents/CourseDescription_.pdf
URL:https://igi.ie/event/gsi-geotechnical-society-of-ireland-european-ground-motion-service-egms-course/
LOCATION:Engineers Ireland\, Ballsbridge\, Dublin\, Clyde Road\, Ballsbridge\, Dublin\, Ireland
CATEGORIES:Event
END:VEVENT
BEGIN:VEVENT
DTSTART;VALUE=DATE:20231011
DTEND;VALUE=DATE:20231012
DTSTAMP:20260423T031301
CREATED:20230831T111721Z
LAST-MODIFIED:20230831T113445Z
UID:8946-1696982400-1697068799@igi.ie
SUMMARY:National Geothermal Energy Summit 2023
DESCRIPTION:Save The Date: \nDetails to follow…
URL:https://igi.ie/event/save-the-date-national-geothermal-energy-summit-2023/
LOCATION:TU Dublin\, Grangegorman Campus\, Grangegorman Lower\,\, Dublin\, D07H6K8\, Ireland
CATEGORIES:Event
END:VEVENT
BEGIN:VEVENT
DTSTART;TZID=Europe/Dublin:20231012T160000
DTEND;TZID=Europe/Dublin:20231012T170000
DTSTAMP:20260423T031301
CREATED:20231011T113439Z
LAST-MODIFIED:20231011T113644Z
UID:9065-1697126400-1697130000@igi.ie
SUMMARY:Northern Ireland Geothermal Webinar Series: "Why Geothermal?"
DESCRIPTION:“Why Geothermal? – Analysis of community acceptance to promote energy justice and sustainable development strategies in rural Argentina” \nNorthern Ireland Geothermal Webinar Series– webinar tomorrow Thursday 12th October 2023 4pm-5pm hosted by the GSNI. \nGiven by Jackson Marshall Grimes of Project Innerspace. \nMore information on the content of this webinar and a link for registration can be found at this Eventbrite link: \nWhy Geothermal? Analysis of Community Acceptance to Promote Energy Justice Tickets\, Thu 12 Oct 2023 at 16:00 | Eventbrite
URL:https://igi.ie/event/northern-ireland-geothermal-webinar-series-why-geothermal/
LOCATION:Webinar
CATEGORIES:Event
END:VEVENT
BEGIN:VEVENT
DTSTART;VALUE=DATE:20231014
DTEND;VALUE=DATE:20231016
DTSTAMP:20260423T031301
CREATED:20230920T141240Z
LAST-MODIFIED:20230920T141240Z
UID:9023-1697241600-1697414399@igi.ie
SUMMARY:Annual IAH (Irish Group) Field trip with the central theme of “CatchmentCARE”
DESCRIPTION:To be held in the Border counties to learn about the work undertaken as part of the cross-border CatchmentCARE project\, in the cross-border river catchments: the Arney\, the Blackwater and the Finn. \n14th and 15th October \nFull details of the content of the fieldtrip\, the itinerary\, cost and how to register can be found at this link Annual IAH (Irish Group) Field Trip – International Association of Hydrogeologists (IAH) Irish Chapter (iah-ireland.org). \nFurther questions or queries can be directed to the IAH Fieldtrip Secretary\, Joe Greene at fieldtrip@iah-ireland.org
URL:https://igi.ie/event/annual-iah-irish-group-field-trip-with-the-central-theme-of-catchmentcare/
LOCATION:Arney\, Blackwater and the Finn Catchments\, BT74 6HX\, United Kingdom
CATEGORIES:Event
END:VEVENT
BEGIN:VEVENT
DTSTART;TZID=Europe/Dublin:20231016T140000
DTEND;TZID=Europe/Dublin:20231016T154000
DTSTAMP:20260423T031301
CREATED:20231004T125017Z
LAST-MODIFIED:20231004T125017Z
UID:9056-1697464800-1697470800@igi.ie
SUMMARY:International Association of Geomorphologists: Webinar
DESCRIPTION:International Association of Geomorphologists will be holding a  webinar on the 16th October between 14:00 and 15:40 IST (15:00 and 16:40 CET) featuring speakers from Poland\, Italy and the U.K. \nMore details on the topics to be presented and how to register can be found here: \nIAG Webinar for the International Geodiversity Day 2023 – IAG – International Association of Geomorphologists
URL:https://igi.ie/event/international-association-of-geomorphologists-webinar/
LOCATION:Webinar
CATEGORIES:Event
END:VEVENT
BEGIN:VEVENT
DTSTART;VALUE=DATE:20231017
DTEND;VALUE=DATE:20231018
DTSTAMP:20260423T031301
CREATED:20230927T124415Z
LAST-MODIFIED:20230927T124415Z
UID:9030-1697500800-1697587199@igi.ie
SUMMARY:Belfast Geologists Society talk
DESCRIPTION:The next talk of their 2023/2024 winter programme will be on Tuesday 17th October. \nThe talk will be given by Dr. Robert Raine of GSNI and the provisional title is “Geothermal Potential of Northern Ireland”. \nMore details on how to access the meeting will be provided nearer the date. \nKeep an eye on the Belfast Geologists webpage for more information coming soon Belfast Geologists Winter Programme
URL:https://igi.ie/event/belfast-geologists-society-talk/
CATEGORIES:Event
END:VEVENT
BEGIN:VEVENT
DTSTART;VALUE=DATE:20231019
DTEND;VALUE=DATE:20231020
DTSTAMP:20260423T031301
CREATED:20231011T115559Z
LAST-MODIFIED:20231011T115559Z
UID:9070-1697673600-1697759999@igi.ie
SUMMARY:The Hydrogeological Group of Geological Society London: Groundwater Modellers Forum
DESCRIPTION:The title of the forum is: “What aren’t we modelling and does it matter?”. \nIt will be a hybrid event. \nThe Hydrogeological Group has very kindly allowed IGI members to avail of the Geol. Soc. members rate (£95 Stg for remote attendance)\, just put in your IGI membership number into the notes and comments section when registering. \nPlease see Forum Flyer for more information and note that the deadline for online attendance registration is Monday\, 16th October.
URL:https://igi.ie/event/the-hydrogeological-group-of-geological-society-london-groundwater-modellers-forum/
LOCATION:Birmingham and Online\, Priory Rooms\, Bull St\,\, Birmingham\, United Kingdom
CATEGORIES:Event
END:VEVENT
BEGIN:VEVENT
DTSTART;VALUE=DATE:20231025
DTEND;VALUE=DATE:20231107
DTSTAMP:20260423T031301
CREATED:20231025T122050Z
LAST-MODIFIED:20231025T122050Z
UID:9101-1698192000-1699315199@igi.ie
SUMMARY:Samhain agus Science Mini-Festival
DESCRIPTION:Samhain agus Science Mini-Festival is an initiative of the Dublin Institute for Advanced Studies (DIAS). \nThis year’s festival runs from 25th October to 6th November with a total of five events\, representing all DIAS schools. \nAll events are in-person\, with four taking place at DIAS HQ\, 10 Burlington Road\, Dublin 4\, and the fifth taking place at Galway City Museum. \nThe Galway event is a walk-in workshop which doesn’t require a ticket\, all of the others can be booked via their Eventbrite collection.
URL:https://igi.ie/event/samhain-agus-science-mini-festival/
CATEGORIES:Event
END:VEVENT
BEGIN:VEVENT
DTSTART;TZID=Europe/Dublin:20231025T123000
DTEND;TZID=Europe/Dublin:20231025T140000
DTSTAMP:20260423T031301
CREATED:20230913T123232Z
LAST-MODIFIED:20230913T124106Z
UID:8975-1698237000-1698242400@igi.ie
SUMMARY:IGI Contaminated Land Training Series webinar
DESCRIPTION:“Developing CSMs & Introduction to Risk Assessment” \nby Graham Webb. \nPre-register for this training series by emailing info@igi.ie. \nMore details are available on the flyer here.
URL:https://igi.ie/event/igi-contaminated-land-training-series-webinar-2/
LOCATION:ZOOM
CATEGORIES:Event
END:VEVENT
END:VCALENDAR