BEGIN:VCALENDAR
VERSION:2.0
PRODID:-//The Institute of Geologists of Ireland - ECPv6.15.20//NONSGML v1.0//EN
CALSCALE:GREGORIAN
METHOD:PUBLISH
X-ORIGINAL-URL:https://igi.ie
X-WR-CALDESC:Events for The Institute of Geologists of Ireland
REFRESH-INTERVAL;VALUE=DURATION:PT1H
X-Robots-Tag:noindex
X-PUBLISHED-TTL:PT1H
BEGIN:VTIMEZONE
TZID:Europe/Dublin
BEGIN:STANDARD
TZOFFSETFROM:+0000
TZOFFSETTO:+0100
TZNAME:IST
DTSTART:20220327T010000
END:STANDARD
BEGIN:DAYLIGHT
TZOFFSETFROM:+0100
TZOFFSETTO:+0000
TZNAME:GMT
DTSTART:20221030T010000
END:DAYLIGHT
BEGIN:STANDARD
TZOFFSETFROM:+0000
TZOFFSETTO:+0100
TZNAME:IST
DTSTART:20230326T010000
END:STANDARD
BEGIN:DAYLIGHT
TZOFFSETFROM:+0100
TZOFFSETTO:+0000
TZNAME:GMT
DTSTART:20231029T010000
END:DAYLIGHT
BEGIN:STANDARD
TZOFFSETFROM:+0000
TZOFFSETTO:+0100
TZNAME:IST
DTSTART:20240331T010000
END:STANDARD
BEGIN:DAYLIGHT
TZOFFSETFROM:+0100
TZOFFSETTO:+0000
TZNAME:GMT
DTSTART:20241027T010000
END:DAYLIGHT
END:VTIMEZONE
BEGIN:VEVENT
DTSTART;TZID=Europe/Dublin:20231201T093000
DTEND;TZID=Europe/Dublin:20231201T163000
DTSTAMP:20260422T233808
CREATED:20231129T144833Z
LAST-MODIFIED:20231129T144833Z
UID:9202-1701423000-1701448200@igi.ie
SUMMARY:Irish Quaternary Association (IQUA) Annual Symposium 2023
DESCRIPTION:Friday\, 1st December between 9:30am and 4:30pm in Royal Society of Antiquaries of Ireland\, 63 Merrion Square\, Dublin 2. \nThe symposium will centre around the topic of  “Marginal Environments: processes\, use and resilience”. \nRegistration is open in person on the day. See preliminary schedule here. \nSee www.iqua.ie for more information.
URL:https://igi.ie/event/irish-quaternary-association-iqua-annual-symposium-2023/
LOCATION:Royal Society of Antiquaries of Ireland\, 63 Merrion Square South\, Dublin 2\, D02 X338\, Ireland
CATEGORIES:Event
END:VEVENT
BEGIN:VEVENT
DTSTART;TZID=Europe/Dublin:20231205T130000
DTEND;TZID=Europe/Dublin:20231205T150000
DTSTAMP:20260422T233808
CREATED:20231115T130950Z
LAST-MODIFIED:20231115T130950Z
UID:9178-1701781200-1701788400@igi.ie
SUMMARY:European Federation of Geologists (EFG) Webinar
DESCRIPTION:Webinar entitled “Changing Gear: New Roles in the Energy Expansion” on Tuesday 5th December from 13:00 to 15:00 GMT (14:00 – 16:00 CET). \nThis webinar will discuss the transfer of skills from oil and gas to other sectors and aims to provide useful insights into alternative career opportunities\, including geothermal\, hydrogen\, helium exploration and CCUS. \nMore information on speakers\, content and a registration link can be found at: \nEFG Webinar – Changing Gear: New roles in the Energy Expansion | Tickets | Science & Technology | Billetto — United Kingdom
URL:https://igi.ie/event/european-federation-of-geologists-efg-webinar/
LOCATION:Webinar
CATEGORIES:Event
END:VEVENT
BEGIN:VEVENT
DTSTART;TZID=Europe/Dublin:20231205T170000
DTEND;TZID=Europe/Dublin:20231205T170000
DTSTAMP:20260422T233808
CREATED:20231129T145550Z
LAST-MODIFIED:20231129T152611Z
UID:9206-1701795600-1701795600@igi.ie
SUMMARY:IAH (Irish Group) virtual event hosted by the Canadian Early Career Hydrogeologists Network (ECHN)
DESCRIPTION:Presentations\, under the topic of “Career Development Perspectives from former ECHN Members” will be given from 17:00 GMT (12:00 EST in Canada) \nby Dr. Matthys Dippenaar (University of Pretoria\, South Africa)\, Viviana Re (University of Pisa\, Italy)\, and Ryan Threndyle (CBCL – Canada)\, who will be sharing their experiences about advancing careers in hydrogeology. \nMore information and the registration link can be found here: \nIAH-ECHN Career Development Perspectives from Former ECHN Members Webinar Registration Form (google.com)
URL:https://igi.ie/event/iah-irish-group-virtual-event-hosted-by-the-canadian-early-career-hydrogeologists-network-echn/
LOCATION:Online Event
CATEGORIES:Event
END:VEVENT
BEGIN:VEVENT
DTSTART;TZID=Europe/Dublin:20231205T180000
DTEND;TZID=Europe/Dublin:20231205T190000
DTSTAMP:20260422T233808
CREATED:20231129T150414Z
LAST-MODIFIED:20231129T150414Z
UID:9209-1701799200-1701802800@igi.ie
SUMMARY:IAH (Irish Group) - Technical Discussion Meeting
DESCRIPTION:IAH (Irish Group) TDM –next Technical Discussion Meeting on Tuesday 5th December between 6pm and 7pm as a hybrid event\, in-person at the Royal Dublin Golf Club\, Bull Island and via Zoom. \nThe topic is related to the Water Resource Management at Royal Dublin Golf Course and the talk is titled \n“Developing a new irrigation groundwater supply from marine sands and gravels while improving course drainage and flood protection in the context of rising sea levels”. \nIt will be given by David Ball (Independent Hydrogeologist)\, Cian Buckley (Senior Flood Engineer\, Arup) and Gerry Baker (Associate Hydrogeologist\, Arup). \nRefreshments will follow the TDM. \nMore information and how to register for the Zoom is available here.
URL:https://igi.ie/event/iah-irish-group-technical-discussion-meeting/
LOCATION:Royal Dublin Golf Club\, Bull Island and via Zoom\, Bull Island\, Dublin\, Ireland
CATEGORIES:Event
END:VEVENT
BEGIN:VEVENT
DTSTART;TZID=Europe/Dublin:20231211T120000
DTEND;TZID=Europe/Dublin:20231211T130000
DTSTAMP:20260422T233808
CREATED:20231206T121713Z
LAST-MODIFIED:20231206T123952Z
UID:9234-1702296000-1702299600@igi.ie
SUMMARY:Geological Service for Europe (GSEU) webinar: “Mapping and Managing Sustainable GeoEnergy Capacities in Europe”
DESCRIPTION:Date and time: 11th December 13:00 – 14:00 CET (12:00-13:00 Irish Time) online. \nMore information on topics\, speakers and how to register can be found at this link: \nMeet the GSEU webinar – Mapping and Managing Sustainable GeoEnergy Capacities in Europe | Events | GSEU (geologicalservice.eu)
URL:https://igi.ie/event/geological-service-for-europe-gseu-webinar-mapping-and-managing-sustainable-geoenergy-capacities-in-europe/
LOCATION:Webinar
CATEGORIES:Event
END:VEVENT
BEGIN:VEVENT
DTSTART;TZID=Europe/Dublin:20231212T120000
DTEND;TZID=Europe/Dublin:20231212T130000
DTSTAMP:20260422T233808
CREATED:20231206T124556Z
LAST-MODIFIED:20231206T125610Z
UID:9239-1702382400-1702386000@igi.ie
SUMMARY:UNECE / EGS / GSEU joint webinar - “United Nations Framework Classification for Resources (UNFC)”
DESCRIPTION:United Nations Economic Commission for Europe (UNECE) / EuroGeoSurveys (EGS) / Geological Service for Europe (GSEU) joint webinar: \n“United Nations Framework Classification for Resources (UNFC)” \nDate and Time: 12th December 13:00 – 14:00 CET (12:00 – 13:00 Irish Time) online. \nMore information on topics\, speakers and how to register can be found here: \nUNECE – EGS/GSEU joined webinar – United Nations Framework Classification for Resources (UNFC) | Events | GSEU (geologicalservice.eu)
URL:https://igi.ie/event/unece-egs-gseu-joint-webinar-united-nations-economic-commission-for-europe-unece-eurogeosurveys-egs-geological-service-for-europe-gseu-joint-webinar-united-nations-f/
LOCATION:Webinar
CATEGORIES:Event
END:VEVENT
BEGIN:VEVENT
DTSTART;TZID=Europe/Dublin:20231212T183000
DTEND;TZID=Europe/Dublin:20231212T183000
DTSTAMP:20260422T233808
CREATED:20231129T151436Z
LAST-MODIFIED:20231129T151436Z
UID:9214-1702405800-1702405800@igi.ie
SUMMARY:Irish Association for Economic Geology (IAEG) Lecture Series 2023 and IAEG AGM
DESCRIPTION:Next talk in the series will be held on Tuesday 12th December\, to be followed immediately by the IAEG AGM. \nThe lecture\, entitled “Using Geological Survey Ireland hyperspectral data as a tool for lithological interpretation” will be given by Russell Rogers of Geological Survey Ireland. \nIt will be held as a hybrid event\, both in-person at the Pillo Hotel\, Ashbourne\, Co. Meath and online from 6:30pm. \nRegistration is required in advance and is open at www.iaeg.ie. \nPlease note that the AGM that follows at 8:00pm the talk is a members-only event. \nMore information on both events can be found here: IAEG – IAEG 2023 AGM + Using Geological Survey Ireland hyperspectral data as a tool for lithological interpretation
URL:https://igi.ie/event/irish-association-for-economic-geology-iaeg-lecture-series-2023-and-iaeg-agm/
LOCATION:Pillo Hotel\, Ashbourne\, Co. Meath and online\, The Rath\, Ashbourne\, Ireland
CATEGORIES:Event
END:VEVENT
BEGIN:VEVENT
DTSTART;TZID=Europe/Dublin:20231213T190000
DTEND;TZID=Europe/Dublin:20231213T200000
DTSTAMP:20260422T233808
CREATED:20231213T143503Z
LAST-MODIFIED:20231213T143503Z
UID:9259-1702494000-1702497600@igi.ie
SUMMARY:Irish Geological Association (IGA) lecture: “Investigating Archaean Terrane Boundaries in Scotland”
DESCRIPTION:Irish Geological Association (IGA) last lecture of the year 13th December 2023\, between 19:00 and 20:00\, as a hybrid event. \nIt will be available on Zoom\, but also in-person at the IGA Member’s Night at the Rooftop Bar\, Hyde Dublin\, 9 Lemon Street\, Dublin 2. \nThe lecture is entitled “Investigating Archaean Terrane Boundaries in Scotland” and will be given by Dr. Eszter Badenzski (iCRAG\, UCD). More details on the talk and how to register are available in the Flyer here.
URL:https://igi.ie/event/irish-geological-association-iga-lecture-investigating-archaean-terrane-boundaries-in-scotland/
LOCATION:Rooftop Bar\, Hyde Dublin and Zoom\, 9 Lemon Street\, Dublin 2\, Dublinj\, Ireland
CATEGORIES:Event
END:VEVENT
BEGIN:VEVENT
DTSTART;TZID=Europe/Dublin:20231213T193000
DTEND;TZID=Europe/Dublin:20231213T193000
DTSTAMP:20260422T233808
CREATED:20231213T143722Z
LAST-MODIFIED:20231213T143722Z
UID:9264-1702495800-1702495800@igi.ie
SUMMARY:Galway Geological Association (GGA) lecture: “New fossil find at the Cliffs of Moher\, Co. Clare”
DESCRIPTION:Galway Geological Association (GGA) are also holding a Zoom lecture\, 13th December 2023 at 19:30. \nIt is entitled “New fossil find at the Cliffs of Moher\, Co. Clare” and will be given by Dr. John Murray (Earth and Ocean Sciences\, University of Galway). \nRegistration is possible by emailing galwaygeology@gmail.com and you will receive a Zoom link.
URL:https://igi.ie/event/galway-geological-association-gga-lecture-new-fossil-find-at-the-cliffs-of-moher-co-clare/
LOCATION:ZOOM
CATEGORIES:Event,Lectures
END:VEVENT
BEGIN:VEVENT
DTSTART;TZID=Europe/Dublin:20231214T160000
DTEND;TZID=Europe/Dublin:20231214T170000
DTSTAMP:20260422T233808
CREATED:20231206T130727Z
LAST-MODIFIED:20231206T132536Z
UID:9246-1702569600-1702573200@igi.ie
SUMMARY:GSNI webinar: “Imaging Subsurface Geology using Gravity measurements from the air”
DESCRIPTION:Geological Survey of Northern Ireland webinar given as part of the Northern Ireland Geothermal Webinar Series. \nThe webinar is entitled “Imaging Subsurface Geology using Gravity measurements from the air”. \nIt will be given by Dr. Gary Barnes\, chief scientist at Metatek. \nThe webinar will introduce gravity gradiometry technology and show how airborne surveys can help solve a variety of geological challenges. \nMore information on the talk and the registration details can be found at this Eventbrite link: \nImaging Subsurface Geology Using Gravity Measurements From the Air Tickets\, Thu 14 Dec 2023 at 16:00 | Eventbrite
URL:https://igi.ie/event/geological-survey-of-northern-ireland-gsni-webinar-imaging-subsurface-geology-using-gravity-measurements-from-the-air/
LOCATION:Webinar
CATEGORIES:Event,Lectures
END:VEVENT
END:VCALENDAR