BEGIN:VCALENDAR
VERSION:2.0
PRODID:-//The Institute of Geologists of Ireland - ECPv6.15.20//NONSGML v1.0//EN
CALSCALE:GREGORIAN
METHOD:PUBLISH
X-WR-CALNAME:The Institute of Geologists of Ireland
X-ORIGINAL-URL:https://igi.ie
X-WR-CALDESC:Events for The Institute of Geologists of Ireland
REFRESH-INTERVAL;VALUE=DURATION:PT1H
X-Robots-Tag:noindex
X-PUBLISHED-TTL:PT1H
BEGIN:VTIMEZONE
TZID:Europe/Dublin
BEGIN:STANDARD
TZOFFSETFROM:+0000
TZOFFSETTO:+0100
TZNAME:IST
DTSTART:20230326T010000
END:STANDARD
BEGIN:DAYLIGHT
TZOFFSETFROM:+0100
TZOFFSETTO:+0000
TZNAME:GMT
DTSTART:20231029T010000
END:DAYLIGHT
BEGIN:STANDARD
TZOFFSETFROM:+0000
TZOFFSETTO:+0100
TZNAME:IST
DTSTART:20240331T010000
END:STANDARD
BEGIN:DAYLIGHT
TZOFFSETFROM:+0100
TZOFFSETTO:+0000
TZNAME:GMT
DTSTART:20241027T010000
END:DAYLIGHT
BEGIN:STANDARD
TZOFFSETFROM:+0000
TZOFFSETTO:+0100
TZNAME:IST
DTSTART:20250330T010000
END:STANDARD
BEGIN:DAYLIGHT
TZOFFSETFROM:+0100
TZOFFSETTO:+0000
TZNAME:GMT
DTSTART:20251026T010000
END:DAYLIGHT
END:VTIMEZONE
BEGIN:VEVENT
DTSTART;TZID=Europe/Dublin:20240403T180000
DTEND;TZID=Europe/Dublin:20240403T193000
DTSTAMP:20260422T190604
CREATED:20240320T161827Z
LAST-MODIFIED:20240320T161827Z
UID:9571-1712167200-1712172600@igi.ie
SUMMARY:60th Anniversary of the Volcano and Magmatic Studies Group
DESCRIPTION:UCD and TCD are organising a special evening seminar for the 60th Anniversary of the Volcano and Magmatic Studies Group\, a special interest group of The Geological Society. \nThis will be held at Museum Building\, Trinity College Dublin on 3rd April 2024\, between 6pm and 7:30pm\, and is open to the public. Chris Bean and Swetha Venugopal will be speaking about modern advancements in volcano monitoring. \nPlease find full details below\, and we hope to see you there.
URL:https://igi.ie/event/60th-anniversary-of-the-volcano-and-magmatic-studies-group/
LOCATION:Trinity College\, Dublin\, Dublin\, D02 KV91\, Ireland
CATEGORIES:Event
END:VEVENT
BEGIN:VEVENT
DTSTART;VALUE=DATE:20240405
DTEND;VALUE=DATE:20240408
DTSTAMP:20260422T190604
CREATED:20240228T134357Z
LAST-MODIFIED:20240228T134604Z
UID:9447-1712275200-1712534399@igi.ie
SUMMARY:Save the date - IQUA Field Meeting to Co. Louth: 5-7 April
DESCRIPTION:IQUA Field Meeting to Co. Louth: 5-7 April
URL:https://igi.ie/event/save-the-date-iqua-field-meeting-to-co-louth/
CATEGORIES:Event
END:VEVENT
BEGIN:VEVENT
DTSTART;VALUE=DATE:20240405
DTEND;VALUE=DATE:20240408
DTSTAMP:20260422T190604
CREATED:20240313T132101Z
LAST-MODIFIED:20240313T132724Z
UID:9513-1712275200-1712534399@igi.ie
SUMMARY:IQUA / QRA Spring Field Meeting
DESCRIPTION:IQUA / QRA Spring Field Meeting – 5th – 7th April 2024 \nIt is with great pleasure that we announce a joint Irish Quaternary Association (IQUA) / Quaternary Research Association (QRA) field meeting to Co. Louth led by Gill Plunkett\, Ryan Smazal\, Cathy Delaney and Jasper Knight. \nWe will meet in the Imperial Hotel in Dundalk at 7 pm on Friday (5th April)\, and keep our fingers crossed for clement weather as we tour the county on Saturday 6th April and Sunday 7th April. \nA preliminary schedule of sites can be found here. \nRegistration for full IQUA or QRA members is €60 (€30 student/unwaged). For non-members\, registration will be €85 (€45 student/unwaged). \n*To register your interest in participating in the field meeting\, please complete this form by 15 March.*
URL:https://igi.ie/event/iqua-qra-spring-field-meeting/
LOCATION:Imperial Hotel\, Dundalk\, Co Louth\, Park Street\,\, Dundalk\, A91 ND6P\, Ireland
CATEGORIES:Event
END:VEVENT
BEGIN:VEVENT
DTSTART;TZID=Europe/Dublin:20240411T110000
DTEND;TZID=Europe/Dublin:20240411T170000
DTSTAMP:20260422T190604
CREATED:20240207T101855Z
LAST-MODIFIED:20240207T101927Z
UID:9378-1712833200-1712854800@igi.ie
SUMMARY:Geomorphology Association of Ireland - 9th Annual Workshop
DESCRIPTION:Geomorphology Association of Ireland – the GAI\, hosting along with the Ryan Institute and University of Galway\, will be holding their 9th Annual Workshop on the 11th April 2024 between 11:00 and 17:00 at the Portershed\, Galway. \nThe theme of the workshop is: “From Land to Sea: the role of Geomorphology in understanding and managing Ireland’s landforms”. \nAbstracts are due 16th February.  \nThere will be oral and poster presentations\, panel discussions and networking opportunities. \nFor more details and registration\, please visit www.irishgeomorphology.ie
URL:https://igi.ie/event/geomorphology-association-of-ireland-9th-annual-workshop/
LOCATION:Portershed\, Galway.\, 15 Market St\,\, Galway\, H91 TCX3\, Ireland
CATEGORIES:Event
END:VEVENT
BEGIN:VEVENT
DTSTART;VALUE=DATE:20240412
DTEND;VALUE=DATE:20240413
DTSTAMP:20260422T190604
CREATED:20240228T133704Z
LAST-MODIFIED:20240228T133704Z
UID:9441-1712880000-1712966399@igi.ie
SUMMARY:Terra Soil Conference
DESCRIPTION:Terra Soil is a collaborative research project between Geological Survey Ireland and Teagasc. Initiated in 2018\, the Terra Soil Project aims to derive agronomic and environmental indicators from Tellus soil sample data. \nThe final conference will be held on the Friday 12th April 2024 at the Ashtown Research Centre\, Dublin\, D15 DY05. \nThis conference will serve as a platform for the official release of new datasets\, maps\, reports and scientific papers produced during this period. \nMore information is available from the Geological Survey Ireland webpage Terra Soil Final Conference (gsi.ie) . If you are interested in attending\, please contact them on tellus@gsi.ie.
URL:https://igi.ie/event/terra-soil-conference/
LOCATION:Ashtown Research Centre\, Ashtown\, Dublin\, D15 DY05\, Ireland
CATEGORIES:Event
END:VEVENT
BEGIN:VEVENT
DTSTART;VALUE=DATE:20240412
DTEND;VALUE=DATE:20240413
DTSTAMP:20260422T190604
CREATED:20240320T162122Z
LAST-MODIFIED:20240410T131732Z
UID:9577-1712880000-1712966399@igi.ie
SUMMARY:Geothermal Association of Ireland EGM
DESCRIPTION:Geothermal Association of Ireland EGM – will be held on the 12th April 2024\, to review past achievements\, reveal future plans and introduce new committee members. \nPlease keep an eye on their website for more information News & Events – Geothermal Association of Ireland
URL:https://igi.ie/event/save-the-date-geothermal-association-of-ireland-egm/
CATEGORIES:Event
END:VEVENT
BEGIN:VEVENT
DTSTART;VALUE=DATE:20240416
DTEND;VALUE=DATE:20240417
DTSTAMP:20260422T190604
CREATED:20240313T130821Z
LAST-MODIFIED:20240327T150056Z
UID:9503-1713225600-1713311999@igi.ie
SUMMARY:Belfast Geologists’ Society AGM
DESCRIPTION:Belfast Geologists’ Society AGM followed by talk. 16th April 2024. \nTime and location tbc. Talk will be live + via Zoom. \nNicholas Wright: (archaeologist) title to be finalised. Zoom link and AGM details will be circulated closer to the time \n  \n 
URL:https://igi.ie/event/belfast-geologists-society-agm-16th-april-2024/
CATEGORIES:Event
END:VEVENT
BEGIN:VEVENT
DTSTART;VALUE=DATE:20240416
DTEND;VALUE=DATE:20240418
DTSTAMP:20260422T190604
CREATED:20240306T121715Z
LAST-MODIFIED:20240306T121715Z
UID:9489-1713225600-1713398399@igi.ie
SUMMARY:IAH (Irish Group) Annual Conference
DESCRIPTION:IAH (Irish Group) Annual Conference – registration is now open. \nThe conference\, with the theme of “Groundwater and Nature-based solutions” will be held on the 16th and 17th April 2024 at the Tullamore Court Hotel. \nThe scheduled conference proceedings and further information can be found on the IAH website: Annual Conference – International Association of Hydrogeologists (IAH) Irish Chapter (iah-ireland.org) and registration is now open at this Eventbrite link: 44th Annual IAH (Irish Group) Conference Tickets\, Tue 16 Apr 2024 at 08:30 | Eventbrite
URL:https://igi.ie/event/iah-irish-group-annual-conference/
LOCATION:Tullamore Court Hotel\, Co. Offaly\, O Moore Street\,\, Tullamore\, Ireland
CATEGORIES:Conferences,Event
END:VEVENT
BEGIN:VEVENT
DTSTART;TZID=Europe/Dublin:20240417T190000
DTEND;TZID=Europe/Dublin:20240417T190000
DTSTAMP:20260422T190604
CREATED:20240410T125913Z
LAST-MODIFIED:20240410T125913Z
UID:9635-1713380400-1713380400@igi.ie
SUMMARY:Irish Geological Association (IGA) Virtual Lecture
DESCRIPTION:The Title of this Lecture is: \n“The Changing Roles of Long-lived Faults in Mountain Belts: Examples from the Variscides of Southern Ireland” \nIt will be given by Dr. Pat Meere (UCC). \nPat is one of the most accomplished and experienced structural geologists in Ireland\, so it will be a superb opportunity to learn a little of his distilled knowledge on this important topic. \nDeep thanks to Dr. Patrick Roycroft\, IGA Lecture Secretary\, for arranging this meeting. \nOnce you register\, you will receive an acknowledgement. \nAll who register will receive the Zoom link on the day of this lecture. \nTo register\, please download flyer here which brings you to a Google Form\, or alternatively email info@geology.ie
URL:https://igi.ie/event/irish-geological-association-iga-virtual-lecture/
LOCATION:ZOOM
CATEGORIES:Event,Lectures
END:VEVENT
BEGIN:VEVENT
DTSTART;TZID=Europe/Dublin:20240418T160000
DTEND;TZID=Europe/Dublin:20240418T170000
DTSTAMP:20260422T190604
CREATED:20240327T142953Z
LAST-MODIFIED:20240327T142953Z
UID:9596-1713456000-1713459600@igi.ie
SUMMARY:GSNI Northern Ireland Geothermal Webinar
DESCRIPTION:The next webinar of the 2024 Northern Ireland Geothermal Webinar Series will take place on Thursday 18th April 2024 between 16:00 and 17:00. \nIt is entitled “Building the Global Geothermal Market: A Sustainable Energy Frontier” and will be given by Dr Marit Brommer (CEO) and Helen Robinson (Regional Manager Africa) of the International Geothermal Association. \nMore details and an Eventbrite link can be found here Building the Global Geothermal Market: A Sustainable Energy Frontier Tickets\, Thu\, Apr 18\, 2024 at 4:00 PM | Eventbrite
URL:https://igi.ie/event/gsni-northern-ireland-geothermal-webinar-2/
LOCATION:Webinar
CATEGORIES:Event,Lectures
END:VEVENT
BEGIN:VEVENT
DTSTART;VALUE=DATE:20240422
DTEND;VALUE=DATE:20240423
DTSTAMP:20260422T190604
CREATED:20240417T113401Z
LAST-MODIFIED:20240417T113504Z
UID:9661-1713744000-1713830399@igi.ie
SUMMARY:Earth Day 2024 - “Planet vs Plastics”
DESCRIPTION:EarthDay.org is unwavering in their commitment to end plastics for the sake of human and planetary health\, demanding a 60% reduction in the production of all plastics by 2040. \nMore information is available here: Earth Day 2024 | Activities & Resources for April 22 – Earth Day.
URL:https://igi.ie/event/earth-day-2024-planet-vs-plastics/
CATEGORIES:Event
END:VEVENT
BEGIN:VEVENT
DTSTART;VALUE=DATE:20240424
DTEND;VALUE=DATE:20240428
DTSTAMP:20260422T190604
CREATED:20240320T162938Z
LAST-MODIFIED:20240320T165650Z
UID:9580-1713916800-1714262399@igi.ie
SUMMARY:43rd Annual Conference of the International Association for Impact Assessment (IAIA24)
DESCRIPTION:This international conference\, to be held in Dublin\, will be around the theme of: \n“Impact Assessment for a Just Transformation” \nMore details on the Preliminary Programme and how to register can be found on this website IAIA24 Annual Conference – IAIA24
URL:https://igi.ie/event/43rd-annual-conference-of-the-international-association-for-impact-assessment-iaia24/
LOCATION:The Convention Centre\, Spencer Dock\, North Wall Quay\, Dublin\, D01 T1W6\, Ireland
CATEGORIES:Conferences,Event
END:VEVENT
BEGIN:VEVENT
DTSTART;TZID=Europe/Dublin:20240424T130000
DTEND;TZID=Europe/Dublin:20240424T130000
DTSTAMP:20260422T190604
CREATED:20230913T130606Z
LAST-MODIFIED:20240417T133052Z
UID:8983-1713963600-1713963600@igi.ie
SUMMARY:UCD School of Earth Sciences Seminar Series
DESCRIPTION:“Timing and patterns of glacier thinning and recession along the northern sector of the Iceland Ice Sheet during the last deglaciation” \nJoe Licciardi – University of New Hampshire \nIn-person in E0.61 in the Science Hub or on Zoom. \nThe zoom link is at the top of the flyer (download here) and will remain the same every week. \nPlease see full list of talks here.
URL:https://igi.ie/event/ucd-school-of-earth-sciences-autumn-seminar-series/
LOCATION:Science Centre\, UCD Dublin\, University College Dublin\, Belfield\, Dublin\, Ireland
CATEGORIES:Event,Lectures
END:VEVENT
BEGIN:VEVENT
DTSTART;TZID=Europe/Dublin:20240424T190000
DTEND;TZID=Europe/Dublin:20240424T190000
DTSTAMP:20260422T190604
CREATED:20240327T143645Z
LAST-MODIFIED:20240327T143748Z
UID:9599-1713985200-1713985200@igi.ie
SUMMARY:Irish Geological Association (IGA) AGM
DESCRIPTION:Irish Geological Association (IGA) AGM\, with a presidential address\, geologically themed refreshments\, plus some decent edibles\, will be held on Wednesday\, 24th April\, 2024. \nDetails for the evening are included in the flyer here\, along with an update of their 2024 programme of events. \nWeekend excursions are filling fast\, so please book soon to secure a place if you are interested to attend. \nMany thanks to TCD Geology Department and all staff at the Museum Building there\, led by Prof. Jerry Dickens\, for so graciously hosting the IGA AGM. They greatly value your interest and support for the Irish Geological Association and really look forward to seeing you there
URL:https://igi.ie/event/irish-geological-association-iga-agm/
LOCATION:Trinity College\, Dublin\, Dublin\, D02 KV91\, Ireland
CATEGORIES:Event
END:VEVENT
BEGIN:VEVENT
DTSTART;VALUE=DATE:20240427
DTEND;VALUE=DATE:20240428
DTSTAMP:20260422T190604
CREATED:20240228T134524Z
LAST-MODIFIED:20240410T132108Z
UID:9450-1714176000-1714262399@igi.ie
SUMMARY:IQUA Spring Meeting and AGM
DESCRIPTION:IQUA Spring Meeting and AGM: 27 April
URL:https://igi.ie/event/save-the-date-iqua-spring-meeting-and-agm-27-april/
CATEGORIES:Event
END:VEVENT
BEGIN:VEVENT
DTSTART;TZID=Europe/Dublin:20240427T103000
DTEND;TZID=Europe/Dublin:20240427T103000
DTSTAMP:20260422T190604
CREATED:20240425T183303Z
LAST-MODIFIED:20240425T183303Z
UID:9697-1714213800-1714213800@igi.ie
SUMMARY:Belfast Geologists Society excursion: “Life on the Edge\, the geology/karst and archaeology of Linford”
DESCRIPTION:Belfast Geologists Society- first excursion of the year is this Saturday 27th April – the theme of the excursion is “Life on the Edge\, the geology/karst and archaeology of Linford” and will be led by Ian Enlander and Barrie Hartwell. \nMeeting at 10.30am at Ballygally car park (beside the Spar) – car sharing (small car park at Linford) for 11am start at Linford. Full details can be found at https://belfastgeologists.org/index.php/2024/01/24/blog-post-title-5/. \nNO DOGS PERMITTED. Weather forecast is currently looking at best overcast\, damp and cool so please dress accordingly. Conditions underfoot will be muddy so appropriate footwear also.
URL:https://igi.ie/event/belfast-geologists-society-excursion-life-on-the-edge-the-geology-karst-and-archaeology-of-linford/
LOCATION:Linford\, Ballygally\, County Antrim\, Feystown Road\,\, Ballygalley\, BT40 2LZ\, United Kingdom
CATEGORIES:Event
END:VEVENT
END:VCALENDAR