BEGIN:VCALENDAR
VERSION:2.0
PRODID:-//The Institute of Geologists of Ireland - ECPv6.15.20//NONSGML v1.0//EN
CALSCALE:GREGORIAN
METHOD:PUBLISH
X-WR-CALNAME:The Institute of Geologists of Ireland
X-ORIGINAL-URL:https://igi.ie
X-WR-CALDESC:Events for The Institute of Geologists of Ireland
REFRESH-INTERVAL;VALUE=DURATION:PT1H
X-Robots-Tag:noindex
X-PUBLISHED-TTL:PT1H
BEGIN:VTIMEZONE
TZID:Europe/Dublin
BEGIN:STANDARD
TZOFFSETFROM:+0000
TZOFFSETTO:+0100
TZNAME:IST
DTSTART:20230326T010000
END:STANDARD
BEGIN:DAYLIGHT
TZOFFSETFROM:+0100
TZOFFSETTO:+0000
TZNAME:GMT
DTSTART:20231029T010000
END:DAYLIGHT
BEGIN:STANDARD
TZOFFSETFROM:+0000
TZOFFSETTO:+0100
TZNAME:IST
DTSTART:20240331T010000
END:STANDARD
BEGIN:DAYLIGHT
TZOFFSETFROM:+0100
TZOFFSETTO:+0000
TZNAME:GMT
DTSTART:20241027T010000
END:DAYLIGHT
BEGIN:STANDARD
TZOFFSETFROM:+0000
TZOFFSETTO:+0100
TZNAME:IST
DTSTART:20250330T010000
END:STANDARD
BEGIN:DAYLIGHT
TZOFFSETFROM:+0100
TZOFFSETTO:+0000
TZNAME:GMT
DTSTART:20251026T010000
END:DAYLIGHT
END:VTIMEZONE
BEGIN:VEVENT
DTSTART;TZID=Europe/Dublin:20240501T183000
DTEND;TZID=Europe/Dublin:20240501T193000
DTSTAMP:20260422T190603
CREATED:20240403T135150Z
LAST-MODIFIED:20240403T135150Z
UID:9616-1714588200-1714591800@igi.ie
SUMMARY:UCD Engineering Graduates Association – “The Future of Construction Innovation in Ireland”
DESCRIPTION:To be held at the UCD Engineering & Materials Science Centre (Room 326)\, Belfield on Wednesday 1st May 2024\, between 6:30pm and 7:30pm. \nLight refreshments will be available from 6pm. There will be a panel of experts who will present insights into the coordinated developments that are going on behind the scenes to bring innovation to the construction sector in Ireland. \nMore information on the event is available from this link:\nEGA Spring Panel Discussion 2024 – UCD Engineering Graduates Association \nand registration is open through this Google form:\nThe Future of Construction Innovation in Ireland (google.com).
URL:https://igi.ie/event/ucd-engineering-graduates-association-the-future-of-construction-innovation-in-ireland/
LOCATION:University College Dublin\, Belfield\, Dublin 4\, Ireland
CATEGORIES:Event
END:VEVENT
BEGIN:VEVENT
DTSTART;VALUE=DATE:20240504
DTEND;VALUE=DATE:20240506
DTSTAMP:20260422T190603
CREATED:20240423T184734Z
LAST-MODIFIED:20240423T184734Z
UID:9685-1714780800-1714953599@igi.ie
SUMMARY:Ireland’s Fossil Heritage and iCRAG - Feile na Bealtaine
DESCRIPTION:Ireland’s Fossil Heritage and iCRAG – will be attending Feile na Bealtaine in Daingean Uí Chuis\, Co. Kerry on the 4th and 5th May 2024. \nThere is a Family Day on the 4th May with rocks\, fossils and games. Followed by a walk on Clogher Strand on the 5th May\, where you can learn to read the rocks and fossils. \nMore information can be found on the Feile na Bealtaine website Féile na Bealtaine: community music and arts festival in Dingle\, Kerry (feilenabealtaine.ie)
URL:https://igi.ie/event/irelands-fossil-heritage-and-icrag-feile-na-bealtaine/
LOCATION:Daingean Uí Chuis\, Co Kerry\, Co Kerry\, Ireland
CATEGORIES:Event
END:VEVENT
BEGIN:VEVENT
DTSTART;VALUE=DATE:20240508
DTEND;VALUE=DATE:20240509
DTSTAMP:20260422T190603
CREATED:20240327T144625Z
LAST-MODIFIED:20240327T144625Z
UID:9603-1715126400-1715212799@igi.ie
SUMMARY:The Hydrogeology Group of the Geological Society of London-50th Birthday Conference
DESCRIPTION:The Hydrogeology Group of the Geological Society of London is turning 50. \nTo celebrate\, they are holding a 50th Birthday Conference on Wednesday 8th May at Burlington House\, London. \nRegistration will open after Easter. \nMore information on the draft programme and how to register can be found at this link \n50th Anniversary Celebration – The Hydrogeological Group (hydrogroup.org.uk)
URL:https://igi.ie/event/the-hydrogeology-group-of-the-geological-society-of-london-50th-birthday-conference/
LOCATION:Burlington House\, London and online\, Piccadilly\, London\, United Kingdom
CATEGORIES:Conferences,Event
END:VEVENT
BEGIN:VEVENT
DTSTART;TZID=Europe/Dublin:20240514T183000
DTEND;TZID=Europe/Dublin:20240514T183000
DTSTAMP:20260422T190603
CREATED:20240417T114339Z
LAST-MODIFIED:20240417T114339Z
UID:9665-1715711400-1715711400@igi.ie
SUMMARY:Royal Irish Academy – Launch of Irish Historic Towns Atlas no. 31 – Cork / Corcaigh.
DESCRIPTION:Cork City Council and the Royal Irish Academy will be holding a launch\, by Lord Mayor Cllr Kieran McCarthy\, of the “Irish Historic Towns Atlas\, no 31\, Cork / Corcaigh”\, by H.B. Clarke and Máire Ní Laoi. \nIt will be held on Tuesday 14th May 2024 at 6:30pm in Cork City Council\, City Hall\, Anglesea Street\, Cork\, T12 T997. \nReserve your place here by 8th May 2024. \nPurchase your copy of IHTA Cork/Corcaigh here
URL:https://igi.ie/event/royal-irish-academy-launch-of-irish-historic-towns-atlas-no-31-cork-corcaigh/
LOCATION:Cork County Council\, City Hall\, Anglesea Street\,\, Cork\, T12 T997\, Ireland
CATEGORIES:Event
END:VEVENT
BEGIN:VEVENT
DTSTART;VALUE=DATE:20240515
DTEND;VALUE=DATE:20240525
DTSTAMP:20260422T190603
CREATED:20240515T124623Z
LAST-MODIFIED:20240515T125819Z
UID:9816-1715731200-1716595199@igi.ie
SUMMARY:Ireland’s Fossil Heritage “Irish Fossils Alive” - Exhibition
DESCRIPTION:The National Fossil Art Contest 2024 exhibition to showcase the winning entries is currently on at the Glucksman Gallery\, Cork and runs until the 24th May 2024. \nVisit the gallery to see all the amazing art by children from all around Ireland who were inspired by Irish Fossils. \nMore information at this link National Fossil Art Contest 2024 | University College Cork (ucc.ie)National Fossil Art Contest 2024 | University College Cork (ucc.ie)
URL:https://igi.ie/event/irelands-fossil-heritage-irish-fossils-alive-exhibition/
LOCATION:Glucksman Gallery\, Cork\, University College Cork\, University College\, Cork\, T12 N1FK\, Ireland
CATEGORIES:Event
END:VEVENT
BEGIN:VEVENT
DTSTART;TZID=Europe/Dublin:20240515T093000
DTEND;TZID=Europe/Dublin:20240515T163000
DTSTAMP:20260422T190603
CREATED:20240417T132417Z
LAST-MODIFIED:20240417T132656Z
UID:9672-1715765400-1715790600@igi.ie
SUMMARY:EPA Climate Conference
DESCRIPTION:Registration is now open for the EPA Climate Conference to be held in Dublin Castle on the 15th May 2024 from 9:30am to 4:30pm \nThe theme is “Ireland Living in a Changed Climate” \nMore details and a registration link can be found here: \nEPA Annual Climate Change Conference 2024 | Environmental Protection Agency (clr.events)
URL:https://igi.ie/event/epa-climate-conference/
LOCATION:Dublin Castle\, Dame St\,\, Dublin 2\, Ireland
CATEGORIES:Conferences,Event
END:VEVENT
BEGIN:VEVENT
DTSTART;VALUE=DATE:20240518
DTEND;VALUE=DATE:20240519
DTSTAMP:20260422T190603
CREATED:20240313T142014Z
LAST-MODIFIED:20240313T142014Z
UID:9527-1715990400-1716076799@igi.ie
SUMMARY:Belfast Geologists’ Society - Scrabo with Michael Dempster
DESCRIPTION:Belfast Geologists’ Society – Scrabo with Michael Dempster \nAll details to be finalised
URL:https://igi.ie/event/belfast-geologists-society-scrabo-with-michael-dempster/
CATEGORIES:Event
END:VEVENT
BEGIN:VEVENT
DTSTART;TZID=Europe/Dublin:20240518T080000
DTEND;TZID=Europe/Dublin:20240519T170000
DTSTAMP:20260422T190603
CREATED:20240221T124349Z
LAST-MODIFIED:20240221T131915Z
UID:9419-1716019200-1716138000@igi.ie
SUMMARY:Galway Geological Association (GGA) Fieldtrip
DESCRIPTION:Galway Geological Association (GGA) Fieldtrip on: \nClare Island\, Co. Mayo\, guided by Prof. Pete Coxon.  \nFor more information email galwaygeology@gmail.com
URL:https://igi.ie/event/galway-geological-association-gga-fieldtrip-4/
LOCATION:Clare Island\, Co Mayo\, Clare Island\,\, Co Mayo\, Ireland
CATEGORIES:Event
END:VEVENT
BEGIN:VEVENT
DTSTART;TZID=Europe/Dublin:20240521T150000
DTEND;TZID=Europe/Dublin:20240521T160000
DTSTAMP:20260422T190603
CREATED:20240425T183958Z
LAST-MODIFIED:20240426T082709Z
UID:9702-1716303600-1716307200@igi.ie
SUMMARY:PERC Webinar-launch of PERC's Mineral Project Evaluation Report Template
DESCRIPTION:PERC Webinar – launch of PERC’s (Pan-European Reserves and Resources Committee) Mineral Project Evaluation Report Template will be held on Tuesday 21st May from 15:00-16:00 BST (16:00-17:00 CEST) \nFREE event – registration required. \nThis webinar will introduce PERC’s Mineral Project Evaluation Report Template (MPER Template) which has been developed over the past year as part of an action agreed at PERC’s 2023 AGM in April 2023. \nThe MPER Template provides a framework to assist Competent Persons in the compilation of data\, information\, interpretations\, assessments and conclusions relevant to minerals reporting throughout a Mineral Project’s life-cycle from early exploration through advanced mineral development to extraction operation. \nThe template is focused on assisting CPs in compiling such information in a manner that conforms with the requirements and recommendations outlined in the PERC Reporting Standard (see: https://percstandard.org/perc-standard/#2021). \nPlease use the following link for more details and to register for the event. \nhttps://buytickets.at/orebodyriskslimited/1232886
URL:https://igi.ie/event/perc-webinar-to-launch-of-percs-mineral-project-evaluation-report-template/
LOCATION:Webinar
CATEGORIES:Event
END:VEVENT
BEGIN:VEVENT
DTSTART;VALUE=DATE:20240523
DTEND;VALUE=DATE:20240525
DTSTAMP:20260422T190603
CREATED:20240110T125019Z
LAST-MODIFIED:20240320T163924Z
UID:9279-1716422400-1716595199@igi.ie
SUMMARY:IGI Conference: “Climate and Sustainability-the responsibility of the Geoscientist”
DESCRIPTION:The Institute of Geologists of Ireland (IGI) will be hosting a conference around the theme of Climate and Sustainability on the 23rd and 24th May 2024 at The Ashling Hotel\, Dublin 8. \nGeoscientists play a crucial role in addressing climate change and promoting sustainability through their interdisciplinary approach to understanding the Earth’s systems. \nThe objective of the conference is to showcase how the geoscientist has responded to sectoral changes in Energy\, Hydrology\, Contaminated Land and Minerals to assist in developing and managing sustainability and circularity within these industries. \nThe Conference will touch on the following topics: \nStorage potential and technologies\nFlood and environmental insurance risk\nThe EU’s “Environmentally Sustainability” Classification System\nEU Mineral Requirements\nMine Rehabilitation\nPlanning Legislative reform\nEnvironmental Licensing reform\nThe conference will run over 2 days including a workshop on the Friday afternoon. \nAs well as the lunch and coffee breaks\, there will also be an opportunity to mingle with fellow conference attendees at a social event with finger food and refreshments\, on the Thursday evening\, immediately following the first day of the conference. \nRegistration is now open and further details on the conference programme\, registration costs and early bird dates etc. are available by clicking on the link here: https://advantagepco.eventsair.com/igi-2024/igi-2024-reg
URL:https://igi.ie/event/igi-geoscience-sustainability-event/
CATEGORIES:Conferences,Event
END:VEVENT
BEGIN:VEVENT
DTSTART;TZID=Europe/Dublin:20240523T160000
DTEND;TZID=Europe/Dublin:20240523T170000
DTSTAMP:20260422T190603
CREATED:20240508T121619Z
LAST-MODIFIED:20240508T121619Z
UID:9779-1716480000-1716483600@igi.ie
SUMMARY:GSNI Northern Ireland Geothermal Webinar Series
DESCRIPTION:The 5th webinar of the 2024 Northern Ireland Geothermal Webinar Series will take place Thursday 23rd May 2024 between 16:00 and 17:00. \nIt is entitled “Building Geothermal – the New Regulatory and Policy Tools to Mainstream Geothermal” and will be given by Sanjeev Kumar\, Head of Policy at the European Geothermal Energy Council. \nSanjeev will discuss the main regulations that should cement geothermal as the “go-to” solution for key consumer markets. More details and an Eventbrite link can be found here: Building Geothermal – The New Regulatory and Policy Tools Tickets\, Thu 23 May 2024 at 16:00 | Eventbrite
URL:https://igi.ie/event/gsni-northern-ireland-geothermal-webinar-series/
LOCATION:Webinar
CATEGORIES:Event,Lectures
END:VEVENT
BEGIN:VEVENT
DTSTART;VALUE=DATE:20240525
DTEND;VALUE=DATE:20240527
DTSTAMP:20260422T190603
CREATED:20240110T125229Z
LAST-MODIFIED:20240110T125229Z
UID:9282-1716595200-1716767999@igi.ie
SUMMARY:EFG Spring Council Meeting
DESCRIPTION:EFG Spring Council Meeting to be hosted by IGI in Dublin on the 25th and 26th May 2024. \nMore details to come very soon.
URL:https://igi.ie/event/efg-spring-council-meeting/
CATEGORIES:Event
END:VEVENT
BEGIN:VEVENT
DTSTART;VALUE=DATE:20240525
DTEND;VALUE=DATE:20240527
DTSTAMP:20260422T190603
CREATED:20240508T122816Z
LAST-MODIFIED:20240508T122816Z
UID:9782-1716595200-1716767999@igi.ie
SUMMARY:The Burren and Cliffs of Moher UNESCO Global Geopark - “Geopark Academy”
DESCRIPTION:The Burren and Cliffs of Moher UNESCO Global Geopark will be hosting a “Geopark Academy” on the 25th and 26th May at the Burren College of Arts Lecture Hall and in field locations\, Co. Clare. \nThis is an event that marries research with community engagement\, celebrating the 30th anniversary of the Burren College of Art. Set in the Burren and Cliffs of Moher UNESCO Global Geopark\, the event spans two days and consists of a variety of sessions and a fieldtrip. \nBooking is essential for both the seminar sessions and the guided tour. \nInterested attendees should email info@burrengeopark.ie to reserve their place. \nFor a full list of speakers and more information visit here Geopark Academy 2024 (gsi.ie)
URL:https://igi.ie/event/the-burren-and-cliffs-of-moher-unesco-global-geopark-geopark-academy/
LOCATION:Burren College of Art\, Ballyvaughan\, Co Clare\, Newtown Castle\, Newtown\, Ballyvaughan\, Co. Clare\,\, Ballyvaughan\, H91 H299\, Ireland
CATEGORIES:Event
END:VEVENT
END:VCALENDAR