BEGIN:VCALENDAR
VERSION:2.0
PRODID:-//The Institute of Geologists of Ireland - ECPv6.15.20//NONSGML v1.0//EN
CALSCALE:GREGORIAN
METHOD:PUBLISH
X-WR-CALNAME:The Institute of Geologists of Ireland
X-ORIGINAL-URL:https://igi.ie
X-WR-CALDESC:Events for The Institute of Geologists of Ireland
REFRESH-INTERVAL;VALUE=DURATION:PT1H
X-Robots-Tag:noindex
X-PUBLISHED-TTL:PT1H
BEGIN:VTIMEZONE
TZID:Europe/Dublin
BEGIN:STANDARD
TZOFFSETFROM:+0000
TZOFFSETTO:+0100
TZNAME:IST
DTSTART:20230326T010000
END:STANDARD
BEGIN:DAYLIGHT
TZOFFSETFROM:+0100
TZOFFSETTO:+0000
TZNAME:GMT
DTSTART:20231029T010000
END:DAYLIGHT
BEGIN:STANDARD
TZOFFSETFROM:+0000
TZOFFSETTO:+0100
TZNAME:IST
DTSTART:20240331T010000
END:STANDARD
BEGIN:DAYLIGHT
TZOFFSETFROM:+0100
TZOFFSETTO:+0000
TZNAME:GMT
DTSTART:20241027T010000
END:DAYLIGHT
BEGIN:STANDARD
TZOFFSETFROM:+0000
TZOFFSETTO:+0100
TZNAME:IST
DTSTART:20250330T010000
END:STANDARD
BEGIN:DAYLIGHT
TZOFFSETFROM:+0100
TZOFFSETTO:+0000
TZNAME:GMT
DTSTART:20251026T010000
END:DAYLIGHT
END:VTIMEZONE
BEGIN:VEVENT
DTSTART;VALUE=DATE:20240713
DTEND;VALUE=DATE:20240714
DTSTAMP:20260422T150803
CREATED:20240605T121655Z
LAST-MODIFIED:20240626T154909Z
UID:9950-1720828800-1720915199@igi.ie
SUMMARY:IGA Day Excursion on Geology and Art
DESCRIPTION:Irish Geological Association (IGA) Day Excursion on Geology & Art – Saturday 13th July 2024. \nThis excursion will start in the \nTicknock Forest area of South Dublin Mountains\nat 10:30am and continue in the afternoon to the \nRoyal Hibernian Academy (RHA) Exhibition (meeting there at 2:30pm). \nThe day will be led by Dr William (Bill) Sheppard. \nFurther information is available on the flyer here or email info@geology.ie
URL:https://igi.ie/event/iga-day-excursion-the-visual-arts-and-geology-at-the-royal-hibernian-academy-and-beyond/
LOCATION:Ticknock Forest and Royal Hibernian Academy\, Dublin\, Ticknock\, Co Dublin\, Dublin\, Ireland
CATEGORIES:Event
END:VEVENT
BEGIN:VEVENT
DTSTART;VALUE=DATE:20240726
DTEND;VALUE=DATE:20240729
DTSTAMP:20260422T150803
CREATED:20240605T123149Z
LAST-MODIFIED:20240605T123149Z
UID:9953-1721952000-1722211199@igi.ie
SUMMARY:IGA Weekend Excursion: Rathlin Island\, Tieve Bulliagh and The Gobbins\, Co. Antrim
DESCRIPTION:Rathlin Island\, Tieve Bulliagh and The Gobbins\, Co. Antrim\, Northern Ireland. Dr. Mark Cooper (GSNI) \n26th – 28th July 2024
URL:https://igi.ie/event/iga-weekend-excursion-rathlin-island-tieve-bulliagh-and-the-gobbins-co-antrim/
LOCATION:Rathlin Island\, County Antrim\, BT54 6BT\, United Kingdom
CATEGORIES:Event
END:VEVENT
BEGIN:VEVENT
DTSTART;TZID=Europe/Dublin:20240727T093000
DTEND;TZID=Europe/Dublin:20240727T093000
DTSTAMP:20260422T150803
CREATED:20240626T121615Z
LAST-MODIFIED:20240724T112455Z
UID:10190-1722072600-1722072600@igi.ie
SUMMARY:RESCHEDULED - Belfast Geological Society Fieldtrip - Waterloo\, Larne
DESCRIPTION:RESCHEDULED to Saturday 27th July 2024. \nThis fieldtrip (rescheduled from the original date of 20th July\, due to poor weather) will be led by Karen Parks and will be “An Introduction to the Geology of Waterloo\, North of Larne- our Jurassic Coast”. \nMeet at the Larne leisure Centre Carpark 9.30am 54.854925\, -5.802215. \nFurther information at https://belfastgeologists.org/index.php/2024/03/06/waterloo-east-antrim-coast-journey-along-the-key-sites/
URL:https://igi.ie/event/belfast-geological-society-fieldtrip-waterloo-larne/
LOCATION:Waterloo\, Larne\, Co Antrim\, Waterloo Bay\, The Promenade\,\, Larne\, County Antrim\, BT40 1AB\, United Kingdom
CATEGORIES:Event
END:VEVENT
BEGIN:VEVENT
DTSTART;TZID=Europe/Dublin:20240731T150000
DTEND;TZID=Europe/Dublin:20240731T150000
DTSTAMP:20260422T150803
CREATED:20240703T110231Z
LAST-MODIFIED:20240703T110231Z
UID:10210-1722438000-1722438000@igi.ie
SUMMARY:EFG CPD Academy 2-hour masterclass on “Machine Learning for Geoscientists”
DESCRIPTION:Conducted by Tom Meuzelaar from Life Cycle Geo\, on Wednesday 31st of July at 3pm. \nThis session will cover the digital transformation within the mining industry\, basic machine learning concepts\, and various practical applications. \nRegistration is now open\, so be sure to secure your spot – registration details are available at this link: EFG Community Calendar – European Federation of Geologists (eurgeoltitle.eu)
URL:https://igi.ie/event/efg-cpd-academy-2-hour-masterclass-on-machine-learning-for-geoscientists/
CATEGORIES:Event
END:VEVENT
END:VCALENDAR