BEGIN:VCALENDAR
VERSION:2.0
PRODID:-//The Institute of Geologists of Ireland - ECPv6.15.20//NONSGML v1.0//EN
CALSCALE:GREGORIAN
METHOD:PUBLISH
X-ORIGINAL-URL:https://igi.ie
X-WR-CALDESC:Events for The Institute of Geologists of Ireland
REFRESH-INTERVAL;VALUE=DURATION:PT1H
X-Robots-Tag:noindex
X-PUBLISHED-TTL:PT1H
BEGIN:VTIMEZONE
TZID:Europe/Dublin
BEGIN:STANDARD
TZOFFSETFROM:+0000
TZOFFSETTO:+0100
TZNAME:IST
DTSTART:20230326T010000
END:STANDARD
BEGIN:DAYLIGHT
TZOFFSETFROM:+0100
TZOFFSETTO:+0000
TZNAME:GMT
DTSTART:20231029T010000
END:DAYLIGHT
BEGIN:STANDARD
TZOFFSETFROM:+0000
TZOFFSETTO:+0100
TZNAME:IST
DTSTART:20240331T010000
END:STANDARD
BEGIN:DAYLIGHT
TZOFFSETFROM:+0100
TZOFFSETTO:+0000
TZNAME:GMT
DTSTART:20241027T010000
END:DAYLIGHT
BEGIN:STANDARD
TZOFFSETFROM:+0000
TZOFFSETTO:+0100
TZNAME:IST
DTSTART:20250330T010000
END:STANDARD
BEGIN:DAYLIGHT
TZOFFSETFROM:+0100
TZOFFSETTO:+0000
TZNAME:GMT
DTSTART:20251026T010000
END:DAYLIGHT
END:VTIMEZONE
BEGIN:VEVENT
DTSTART;TZID=Europe/Dublin:20240807T103000
DTEND;TZID=Europe/Dublin:20240807T120000
DTSTAMP:20260422T135106
CREATED:20240731T122824Z
LAST-MODIFIED:20240731T122824Z
UID:10246-1723026600-1723032000@igi.ie
SUMMARY:Geological Survey of Northern Ireland (GSNI) Map Launch
DESCRIPTION:GSNI are delighted to be hosting a \n‘Launch of the updated Engineering Geology map of Belfast’ \non Wednesday 7th August 2024 at 10:30am until 12pm\, at PRONI\, Titanic Quarter\, Belfast. \nThis is an update to the original 1970s map to meet the needs of numerous geotechnical\, civil and environmental engineering stakeholders. \nThe map will be freely available to download from GSNI’s website after the launch. \nMore details about the event and how to register to attend are available at this Eventbrite link Launch of the Updated Engineering Geology Map of Belfast Tickets\, Wed\, Aug 7\, 2024 at 10:30 AM | Eventbrite
URL:https://igi.ie/event/geological-survey-of-northern-ireland-gsni-map-launch/
LOCATION:PRONI\, Titanic Quarter\, Belfast\, 2 Titanic Boulevard Titanic Quarter\, Belfast\, BT3 9HQ\, United Kingdom
CATEGORIES:Event
END:VEVENT
BEGIN:VEVENT
DTSTART;VALUE=DATE:20240817
DTEND;VALUE=DATE:20240826
DTSTAMP:20260422T135106
CREATED:20240806T190124Z
LAST-MODIFIED:20240806T190124Z
UID:10257-1723852800-1724630399@igi.ie
SUMMARY:Heritage Week 2024
DESCRIPTION:Heritage Week 2024 runs from Saturday 17th August until Sunday 25th August. There are a number of Geology / Geoscience / Fossil events on throughout the country. Please visit: \nHome | National Heritage Week 17th – 25th August 2024 \nfor full details\, information on booking etc.
URL:https://igi.ie/event/heritage-week-2024/
CATEGORIES:Event
END:VEVENT
BEGIN:VEVENT
DTSTART;TZID=Europe/Dublin:20240817T100000
DTEND;TZID=Europe/Dublin:20240817T160000
DTSTAMP:20260422T135106
CREATED:20240814T104350Z
LAST-MODIFIED:20240814T104350Z
UID:10274-1723888800-1723910400@igi.ie
SUMMARY:Belfast Geologists Society Fieldtrip
DESCRIPTION:The next fieldtrip with the Belfast Geologists Society will be on 17th August 2024 from 10am until 4pm at Glenarm and Carnlough. \nIt will be led by Karen Parks and Mary Watson. Meet at Largy Road carpark North of Carnlough (car park beside the SPAR opposite the harbour)\, 10:00 am. Finish: 4:00 pm. \nAS NUMBERS ARE LIMITED BOOKING ESSENTIAL – please email name and numbers in party to belfastgeologists@live.co.uk. \nFurther information at:\nhttps://belfastgeologists.org/index.php/2024/03/06/carnlough-event-possible-excursion-via-carnlough-hub/\nAnd on Facebook – https://www.facebook.com/p/Belfast-Geologists-Society-100071853709689/ \nStarting at the Community Hub\, Carnlough which is being opened for us. Brief introduction to the area followed by a walk in the area\, returning to the Hub about 12.00 for coffee and tea.\nYou can bring a packed lunch and have it there or opt for ‘eating out’ in Carnlough. After Carnlough the group will go on to Garron Point and then to Glenarm.
URL:https://igi.ie/event/belfast-geologists-society-fieldtrip/
LOCATION:Glenarm and Carnlough\, Co Antrim\, Carnlough\, Ballymena\, Antrim\, BT44 0EU\, United Kingdom
CATEGORIES:Event
END:VEVENT
BEGIN:VEVENT
DTSTART;VALUE=DATE:20240818
DTEND;VALUE=DATE:20240824
DTSTAMP:20260422T135106
CREATED:20240515T125727Z
LAST-MODIFIED:20240806T194431Z
UID:9820-1723939200-1724457599@igi.ie
SUMMARY:4th European Mineralogical Conference 2024
DESCRIPTION:4th European Mineralogical Conference\, Trinity College Dublin\, 18th – 23rd August 2024 \nThe programme with details on oral and poster sessions is available now: \nProgramme | EMC 2024\, Dublin (emc-2024.org). \nRegistration is still open at this link: Registration | EMC 2024\, Dublin (emc-2024.org)
URL:https://igi.ie/event/save-the-date-4th-european-mineralogical-conference-2024/
LOCATION:Trinity College\, Dublin\, Dublin\, D02 KV91\, Ireland
CATEGORIES:Conferences,Event
END:VEVENT
BEGIN:VEVENT
DTSTART;TZID=Europe/Dublin:20240827T080000
DTEND;TZID=Europe/Dublin:20240827T110000
DTSTAMP:20260422T135106
CREATED:20240821T111359Z
LAST-MODIFIED:20240821T111359Z
UID:10289-1724745600-1724756400@igi.ie
SUMMARY:EU Green Week Webinar
DESCRIPTION:As part of EU Green Week\, EuroGeoSurveys and GSEU (Geological Service for Europe) are organizing an online webinar at the EU Green Week next week on the 27th August between 08:00 and 11:00 IST (09:00-12:00 CEST). \nThe webinar is entitled: \n“Towards a water resilient Europe: Exploring the pivotal role of open access data provided by the European Geological Data Infrastructure (EGDI) for groundwater quality and quantity”. \nGroundwater is a critical resource\, and understanding its quantity and quality is essential for effective management and protection. This webinar will present key tools and initiatives to improve access to important groundwater data across Europe. \nThe event will conclude with a Q&A session where you will have the opportunity to discuss with our experts. \nThis webinar is a must for professionals who want to stay up to date on groundwater management and water security in Europe. \nMore details on what the webinar event will cover and how to register can be found at this link: EU Green Week 2024 – Towards a water resilient Europe: Exploring the pivotal role of open access data provided by the European Geological Data Infrastructure (EGDI) for groundwater quality and quantity | Events | GSEU (geologicalservice.eu)
URL:https://igi.ie/event/eu-green-week-webinar/
LOCATION:Webinar
CATEGORIES:Event
END:VEVENT
BEGIN:VEVENT
DTSTART;TZID=Europe/Dublin:20240827T180000
DTEND;TZID=Europe/Dublin:20240827T193000
DTSTAMP:20260422T135106
CREATED:20240731T123907Z
LAST-MODIFIED:20240731T124654Z
UID:10250-1724781600-1724787000@igi.ie
SUMMARY:Royal Irish Academy talk: “Mapping Ireland through time: From Cartographies to Communities”
DESCRIPTION:Royal Irish Academy talk – the RIA will host a talk on: \n“Mapping Ireland through time: From Cartographies to Communities”  \nwhich will be held on Tuesday 27th August 2024 at 18:00 – 19:30 at the Royal Irish Academy\, 19 Dawson Street\, Dublin 2\, D02 HH58. The Royal Irish Academy\, in partnership with the International Geographical Congress 2024\, invites you to a public event that traces the evolution of mapping in Ireland. \nFrom map-making as a colonial project to contemporary community map-making as a means to address significant national challenges\, we invite you to consider the social and political power of maps in a variety of contexts across more than 400 years. \nEach panellist will present a fifteen-minute talk on maps and map-making during different time periods. This will be followed by a Q&A session moderated by Professor Keith Lilley\, Queen’s University Belfast. \nFrom 17:30-18:00 attendees will also have the opportunity to view the OS200 Exhibition outside of its regular opening hours and to peruse material from the Irish and wider European Historic Towns Atlas series which will be on display. \nFind out more about the panellists and book your ticket here
URL:https://igi.ie/event/royal-irish-academy-talk-mapping-ireland-through-time-from-cartographies-to-communities/
LOCATION:Royal Irish Academy\, Dublin\, 19 Dawson Street\, Dublin 2\,\, Dublin\, D02 HH58\, Ireland
CATEGORIES:Event
END:VEVENT
END:VCALENDAR